BEGIN:VCALENDAR
VERSION:2.0
PRODID:-//Prince Chapel AME Church - ECPv6.15.10//NONSGML v1.0//EN
CALSCALE:GREGORIAN
METHOD:PUBLISH
X-ORIGINAL-URL:https://princechapel.org
X-WR-CALDESC:Events for Prince Chapel AME Church
REFRESH-INTERVAL;VALUE=DURATION:PT1H
X-Robots-Tag:noindex
X-PUBLISHED-TTL:PT1H
BEGIN:VTIMEZONE
TZID:UTC
BEGIN:STANDARD
TZOFFSETFROM:+0000
TZOFFSETTO:+0000
TZNAME:UTC
DTSTART:20240101T000000
END:STANDARD
END:VTIMEZONE
BEGIN:VEVENT
DTSTART;TZID=UTC:20251211T183000
DTEND;TZID=UTC:20251211T193000
DTSTAMP:20260423T131010
CREATED:20250218T133252Z
LAST-MODIFIED:20250218T133252Z
UID:3873-1765477800-1765481400@princechapel.org
SUMMARY:Lay Organization Meeting
DESCRIPTION:Lay Organization Meeting \nClick “Zoom Link” or copy and paste link address into your browser window.\nZoom Link\n\nhttps://us02web.zoom.us/j/85287360777?pwd=MFdlZGFSQ2MxLzNiZlJFdHpEK2Z0UT09
URL:https://princechapel.org/calendar/lay-organization-meeting-14/
END:VEVENT
BEGIN:VEVENT
DTSTART;VALUE=DATE:20251213
DTEND;VALUE=DATE:20251214
DTSTAMP:20260423T131010
CREATED:20250202T181201Z
LAST-MODIFIED:20250202T181201Z
UID:3761-1765584000-1765670399@princechapel.org
SUMMARY:​Parade  of Lights Possible WMS/Lay fundraiser
DESCRIPTION:​Parade  of Lights Possible WMS/Lay fundraiser
URL:https://princechapel.org/calendar/parade-of-lights-possible-wms-lay-fundraiser/
END:VEVENT
END:VCALENDAR