BEGIN:VCALENDAR
VERSION:2.0
PRODID:-//Prince Chapel AME Church - ECPv6.15.10//NONSGML v1.0//EN
CALSCALE:GREGORIAN
METHOD:PUBLISH
X-WR-CALNAME:Prince Chapel AME Church
X-ORIGINAL-URL:https://princechapel.org
X-WR-CALDESC:Events for Prince Chapel AME Church
REFRESH-INTERVAL;VALUE=DURATION:PT1H
X-Robots-Tag:noindex
X-PUBLISHED-TTL:PT1H
BEGIN:VTIMEZONE
TZID:UTC
BEGIN:STANDARD
TZOFFSETFROM:+0000
TZOFFSETTO:+0000
TZNAME:UTC
DTSTART:20230101T000000
END:STANDARD
END:VTIMEZONE
BEGIN:VEVENT
DTSTART;TZID=UTC:20241012T120000
DTEND;TZID=UTC:20241012T140000
DTSTAMP:20260424T094344
CREATED:20240826T140941Z
LAST-MODIFIED:20240915T124213Z
UID:3420-1728734400-1728741600@princechapel.org
SUMMARY:The 7 "I AM" STATEMENTS OF CHRIST
DESCRIPTION:The 7 “I AM” STATEMENTS OF CHRIST
URL:https://princechapel.org/calendar/the-7-i-am-statements-of-christ/
LOCATION:Prince Chapel AME Church\, 602 S. Stone Ave.\, Tucson\, AZ
END:VEVENT
END:VCALENDAR