BEGIN:VCALENDAR
VERSION:2.0
PRODID:-//Prince Chapel AME Church - ECPv6.15.10//NONSGML v1.0//EN
CALSCALE:GREGORIAN
METHOD:PUBLISH
X-WR-CALNAME:Prince Chapel AME Church
X-ORIGINAL-URL:https://princechapel.org
X-WR-CALDESC:Events for Prince Chapel AME Church
REFRESH-INTERVAL;VALUE=DURATION:PT1H
X-Robots-Tag:noindex
X-PUBLISHED-TTL:PT1H
BEGIN:VTIMEZONE
TZID:UTC
BEGIN:STANDARD
TZOFFSETFROM:+0000
TZOFFSETTO:+0000
TZNAME:UTC
DTSTART:20230101T000000
END:STANDARD
END:VTIMEZONE
BEGIN:VEVENT
DTSTART;TZID=UTC:20240604T183000
DTEND;TZID=UTC:20240604T193000
DTSTAMP:20260424T155654
CREATED:20240226T145622Z
LAST-MODIFIED:20240226T145622Z
UID:3179-1717525800-1717529400@princechapel.org
SUMMARY:Steward Board Meeting
DESCRIPTION:Steward Board 1st Tuesday of each month @6:30 pm via Zoom
URL:https://princechapel.org/calendar/steward-board-meeting-3/
END:VEVENT
BEGIN:VEVENT
DTSTART;TZID=UTC:20240613T183000
DTEND;TZID=UTC:20240613T193000
DTSTAMP:20260424T155654
CREATED:20240226T145936Z
LAST-MODIFIED:20240226T145936Z
UID:3185-1718303400-1718307000@princechapel.org
SUMMARY:Lay Organization Meeting
DESCRIPTION:Lay Organization 2nd Thursday of each month @6:30 pm via Zoo
URL:https://princechapel.org/calendar/lay-organization-meeting-4/
END:VEVENT
BEGIN:VEVENT
DTSTART;VALUE=DATE:20240616
DTEND;VALUE=DATE:20240617
DTSTAMP:20260424T155654
CREATED:20240227T143030Z
LAST-MODIFIED:20240227T143030Z
UID:3231-1718496000-1718582399@princechapel.org
SUMMARY:Father’s Day/Men’s Day – Men’s Ministry
DESCRIPTION:Father’s Day/Men’s Day – Men’s Ministry
URL:https://princechapel.org/calendar/fathers-day-mens-day-mens-ministry/
END:VEVENT
BEGIN:VEVENT
DTSTART;TZID=UTC:20240616T100000
DTEND;TZID=UTC:20240616T120000
DTSTAMP:20260424T155654
CREATED:20240226T150211Z
LAST-MODIFIED:20240226T150211Z
UID:3191-1718532000-1718539200@princechapel.org
SUMMARY:Youth Sunday
DESCRIPTION:Youth Sunday every 3rd Sunday
URL:https://princechapel.org/calendar/youth-sunday-4/
END:VEVENT
BEGIN:VEVENT
DTSTART;TZID=UTC:20240618T183000
DTEND;TZID=UTC:20240618T193000
DTSTAMP:20260424T155654
CREATED:20240226T150537Z
LAST-MODIFIED:20240226T150537Z
UID:3197-1718735400-1718739000@princechapel.org
SUMMARY:Class Leaders Meeting
DESCRIPTION:Class Leaders 3rd Tuesday of each month @6:30 pm via Zoom
URL:https://princechapel.org/calendar/class-leaders-meeting-4/
END:VEVENT
BEGIN:VEVENT
DTSTART;TZID=UTC:20240620T183000
DTEND;TZID=UTC:20240620T193000
DTSTAMP:20260424T155654
CREATED:20240226T152325Z
LAST-MODIFIED:20240226T152325Z
UID:3211-1718908200-1718911800@princechapel.org
SUMMARY:Women’s Missionary Society Meeting
DESCRIPTION:Women’s Missionary Society Meeting 3rd Thursday of each month @6:30 pm via Zoom
URL:https://princechapel.org/calendar/womens-missionary-society-meeting-5/
END:VEVENT
BEGIN:VEVENT
DTSTART;VALUE=DATE:20240623
DTEND;VALUE=DATE:20240624
DTSTAMP:20260424T155654
CREATED:20240227T143300Z
LAST-MODIFIED:20240227T143300Z
UID:3233-1719100800-1719187199@princechapel.org
SUMMARY:Stewards Day
DESCRIPTION:Stewards Day\nPE Curry Hodge\, Speaker
URL:https://princechapel.org/calendar/stewards-day/
END:VEVENT
BEGIN:VEVENT
DTSTART;TZID=UTC:20240623T100000
DTEND;TZID=UTC:20240623T113000
DTSTAMP:20260424T155654
CREATED:20240521T145304Z
LAST-MODIFIED:20240521T145649Z
UID:3314-1719136800-1719142200@princechapel.org
SUMMARY:Prince Chapel AME: ANNUAL STEWARD’S DAY
DESCRIPTION:Prince Chapel AME: ANNUAL STEWARD’S DAY\n“Growing Together — Building Our Faith”\nGuest Preacher: Presiding Elder Curry-Hodge\, Rocky Mountain District
URL:https://princechapel.org/calendar/prince-chapel-ame-annual-stewards-day/
END:VEVENT
END:VCALENDAR