BEGIN:VCALENDAR
VERSION:2.0
PRODID:-//Prince Chapel AME Church - ECPv6.15.10//NONSGML v1.0//EN
CALSCALE:GREGORIAN
METHOD:PUBLISH
X-ORIGINAL-URL:https://princechapel.org
X-WR-CALDESC:Events for Prince Chapel AME Church
REFRESH-INTERVAL;VALUE=DURATION:PT1H
X-Robots-Tag:noindex
X-PUBLISHED-TTL:PT1H
BEGIN:VTIMEZONE
TZID:UTC
BEGIN:STANDARD
TZOFFSETFROM:+0000
TZOFFSETTO:+0000
TZNAME:UTC
DTSTART:20230101T000000
END:STANDARD
END:VTIMEZONE
BEGIN:VEVENT
DTSTART;TZID=UTC:20240402T183000
DTEND;TZID=UTC:20240402T193000
DTSTAMP:20260424T191515
CREATED:20240226T145414Z
LAST-MODIFIED:20240226T145414Z
UID:3175-1712082600-1712086200@princechapel.org
SUMMARY:Steward Board Meeting
DESCRIPTION:Steward Board 1st Tuesday of each month @6:30 pm via Zoom
URL:https://princechapel.org/calendar/steward-board-meeting/
END:VEVENT
BEGIN:VEVENT
DTSTART;TZID=UTC:20240405T190000
DTEND;TZID=UTC:20240405T210000
DTSTAMP:20260424T191515
CREATED:20240227T132614Z
LAST-MODIFIED:20240227T132614Z
UID:3218-1712343600-1712350800@princechapel.org
SUMMARY:Revival - Dr. James Miller
DESCRIPTION:Weekend of Spiritual Enrichment\nRevival\nRev. Dr. James F. Miller\nExecutive Director A.M.E. Church
URL:https://princechapel.org/calendar/revival-dr-james-miller/
END:VEVENT
BEGIN:VEVENT
DTSTART;TZID=UTC:20240406T100000
DTEND;TZID=UTC:20240406T140000
DTSTAMP:20260424T191515
CREATED:20240227T141021Z
LAST-MODIFIED:20240227T145308Z
UID:3220-1712397600-1712412000@princechapel.org
SUMMARY:Church Enrichment Workshop
DESCRIPTION:Weekend of Spiritual Enrichment\nChurch Enrichment Workshop\n10 am to 2 pm\n@ La Quinta Inn\n102 N. Alvernon Way\,\nTucson\, AZ. \n 
URL:https://princechapel.org/calendar/church-enrichment-workshop/
END:VEVENT
BEGIN:VEVENT
DTSTART;TZID=UTC:20240407T100000
DTEND;TZID=UTC:20240407T120000
DTSTAMP:20260424T191515
CREATED:20240227T141408Z
LAST-MODIFIED:20240227T141408Z
UID:3222-1712484000-1712491200@princechapel.org
SUMMARY:Rev. Dr. James F. Miller — Guest Speaker
DESCRIPTION:Weekend of Spiritual Enrichment\nRev. Dr. James F. Miller\n10 am\n@ Prince Chapel
URL:https://princechapel.org/calendar/rev-dr-james-f-miller-guest-speaker/
END:VEVENT
BEGIN:VEVENT
DTSTART;VALUE=DATE:20240411
DTEND;VALUE=DATE:20240414
DTSTAMP:20260424T191515
CREATED:20240227T141654Z
LAST-MODIFIED:20240227T142354Z
UID:3224-1712793600-1713052799@princechapel.org
SUMMARY:AZ/NM District Conference
DESCRIPTION:AZ / NM District Conference\, Phoenix\, AZ
URL:https://princechapel.org/calendar/az-nm-district-conference-2/
END:VEVENT
BEGIN:VEVENT
DTSTART;TZID=UTC:20240411T183000
DTEND;TZID=UTC:20240411T193000
DTSTAMP:20260424T191515
CREATED:20240226T145806Z
LAST-MODIFIED:20240226T145806Z
UID:3181-1712860200-1712863800@princechapel.org
SUMMARY:Lay Organization Meeting
DESCRIPTION:Lay Organization 2nd Thursday of each month @6:30 pm via Zoo
URL:https://princechapel.org/calendar/lay-organization-meeting-2/
END:VEVENT
BEGIN:VEVENT
DTSTART;TZID=UTC:20240416T183000
DTEND;TZID=UTC:20240416T193000
DTSTAMP:20260424T191515
CREATED:20240226T150347Z
LAST-MODIFIED:20240226T150347Z
UID:3193-1713292200-1713295800@princechapel.org
SUMMARY:Class Leaders Meeting
DESCRIPTION:Class Leaders 3rd Tuesday of each month @6:30 pm via Zoom
URL:https://princechapel.org/calendar/class-leaders-meeting-2/
END:VEVENT
BEGIN:VEVENT
DTSTART;TZID=UTC:20240418T183000
DTEND;TZID=UTC:20240418T193000
DTSTAMP:20260424T191515
CREATED:20240226T152219Z
LAST-MODIFIED:20240226T152219Z
UID:3207-1713465000-1713468600@princechapel.org
SUMMARY:Women’s Missionary Society Meeting
DESCRIPTION:Women’s Missionary Society Meeting 3rd Thursday of each month @6:30 pm via Zoom
URL:https://princechapel.org/calendar/womens-missionary-society-meeting-3/
END:VEVENT
BEGIN:VEVENT
DTSTART;TZID=UTC:20240421T100000
DTEND;TZID=UTC:20240421T120000
DTSTAMP:20260424T191515
CREATED:20240226T150053Z
LAST-MODIFIED:20240226T150053Z
UID:3187-1713693600-1713700800@princechapel.org
SUMMARY:Youth Sunday
DESCRIPTION:Youth Sunday every 3rd Sunday
URL:https://princechapel.org/calendar/youth-sunday-2/
END:VEVENT
BEGIN:VEVENT
DTSTART;VALUE=DATE:20240424
DTEND;VALUE=DATE:20240428
DTSTAMP:20260424T191515
CREATED:20240227T142121Z
LAST-MODIFIED:20240227T142302Z
UID:3227-1713916800-1714262399@princechapel.org
SUMMARY:Desert Mountain Lay Organization Annual Lay Convention
DESCRIPTION:Desert Mountain Lay Organization Annual Lay Convention\nHost: Prince Chapel
URL:https://princechapel.org/calendar/desert-mountain-lay-organization-annual-lay-convention/
END:VEVENT
BEGIN:VEVENT
DTSTART;VALUE=DATE:20240426
DTEND;VALUE=DATE:20240427
DTSTAMP:20260424T191515
CREATED:20240410T150703Z
LAST-MODIFIED:20240410T150703Z
UID:3283-1714089600-1714175999@princechapel.org
SUMMARY:Desert Mountain Annual Conference: LAY ORGANIZATION AWARDS NIGHT
DESCRIPTION:Desert Mountain Annual Conference: LAY ORGANIZATION AWARDS NIGHT • Friday\, April 26th\, 2024 @ 7:00 pm
URL:https://princechapel.org/calendar/desert-mountain-annual-conference-lay-organization-awards-night/
END:VEVENT
END:VCALENDAR