BEGIN:VCALENDAR
VERSION:2.0
PRODID:-//Prince Chapel AME Church - ECPv6.15.10//NONSGML v1.0//EN
CALSCALE:GREGORIAN
METHOD:PUBLISH
X-WR-CALNAME:Prince Chapel AME Church
X-ORIGINAL-URL:https://princechapel.org
X-WR-CALDESC:Events for Prince Chapel AME Church
REFRESH-INTERVAL;VALUE=DURATION:PT1H
X-Robots-Tag:noindex
X-PUBLISHED-TTL:PT1H
BEGIN:VTIMEZONE
TZID:UTC
BEGIN:STANDARD
TZOFFSETFROM:+0000
TZOFFSETTO:+0000
TZNAME:UTC
DTSTART:20210101T000000
END:STANDARD
END:VTIMEZONE
BEGIN:VEVENT
DTSTART;TZID=UTC:20240418T183000
DTEND;TZID=UTC:20240418T193000
DTSTAMP:20260424T084850
CREATED:20240226T152219Z
LAST-MODIFIED:20240226T152219Z
UID:3207-1713465000-1713468600@princechapel.org
SUMMARY:Women’s Missionary Society Meeting
DESCRIPTION:Women’s Missionary Society Meeting 3rd Thursday of each month @6:30 pm via Zoom
URL:https://princechapel.org/calendar/womens-missionary-society-meeting-3/
END:VEVENT
BEGIN:VEVENT
DTSTART;TZID=UTC:20240416T183000
DTEND;TZID=UTC:20240416T193000
DTSTAMP:20260424T084850
CREATED:20240226T150347Z
LAST-MODIFIED:20240226T150347Z
UID:3193-1713292200-1713295800@princechapel.org
SUMMARY:Class Leaders Meeting
DESCRIPTION:Class Leaders 3rd Tuesday of each month @6:30 pm via Zoom
URL:https://princechapel.org/calendar/class-leaders-meeting-2/
END:VEVENT
BEGIN:VEVENT
DTSTART;TZID=UTC:20240411T183000
DTEND;TZID=UTC:20240411T193000
DTSTAMP:20260424T084850
CREATED:20240226T145806Z
LAST-MODIFIED:20240226T145806Z
UID:3181-1712860200-1712863800@princechapel.org
SUMMARY:Lay Organization Meeting
DESCRIPTION:Lay Organization 2nd Thursday of each month @6:30 pm via Zoo
URL:https://princechapel.org/calendar/lay-organization-meeting-2/
END:VEVENT
BEGIN:VEVENT
DTSTART;VALUE=DATE:20240411
DTEND;VALUE=DATE:20240414
DTSTAMP:20260424T084850
CREATED:20240227T141654Z
LAST-MODIFIED:20240227T142354Z
UID:3224-1712793600-1713052799@princechapel.org
SUMMARY:AZ/NM District Conference
DESCRIPTION:AZ / NM District Conference\, Phoenix\, AZ
URL:https://princechapel.org/calendar/az-nm-district-conference-2/
END:VEVENT
BEGIN:VEVENT
DTSTART;TZID=UTC:20240407T100000
DTEND;TZID=UTC:20240407T120000
DTSTAMP:20260424T084850
CREATED:20240227T141408Z
LAST-MODIFIED:20240227T141408Z
UID:3222-1712484000-1712491200@princechapel.org
SUMMARY:Rev. Dr. James F. Miller — Guest Speaker
DESCRIPTION:Weekend of Spiritual Enrichment\nRev. Dr. James F. Miller\n10 am\n@ Prince Chapel
URL:https://princechapel.org/calendar/rev-dr-james-f-miller-guest-speaker/
END:VEVENT
BEGIN:VEVENT
DTSTART;TZID=UTC:20240406T100000
DTEND;TZID=UTC:20240406T140000
DTSTAMP:20260424T084850
CREATED:20240227T141021Z
LAST-MODIFIED:20240227T145308Z
UID:3220-1712397600-1712412000@princechapel.org
SUMMARY:Church Enrichment Workshop
DESCRIPTION:Weekend of Spiritual Enrichment\nChurch Enrichment Workshop\n10 am to 2 pm\n@ La Quinta Inn\n102 N. Alvernon Way\,\nTucson\, AZ. \n 
URL:https://princechapel.org/calendar/church-enrichment-workshop/
END:VEVENT
BEGIN:VEVENT
DTSTART;TZID=UTC:20240405T190000
DTEND;TZID=UTC:20240405T210000
DTSTAMP:20260424T084850
CREATED:20240227T132614Z
LAST-MODIFIED:20240227T132614Z
UID:3218-1712343600-1712350800@princechapel.org
SUMMARY:Revival - Dr. James Miller
DESCRIPTION:Weekend of Spiritual Enrichment\nRevival\nRev. Dr. James F. Miller\nExecutive Director A.M.E. Church
URL:https://princechapel.org/calendar/revival-dr-james-miller/
END:VEVENT
BEGIN:VEVENT
DTSTART;TZID=UTC:20240402T183000
DTEND;TZID=UTC:20240402T193000
DTSTAMP:20260424T084850
CREATED:20240226T145414Z
LAST-MODIFIED:20240226T145414Z
UID:3175-1712082600-1712086200@princechapel.org
SUMMARY:Steward Board Meeting
DESCRIPTION:Steward Board 1st Tuesday of each month @6:30 pm via Zoom
URL:https://princechapel.org/calendar/steward-board-meeting/
END:VEVENT
BEGIN:VEVENT
DTSTART;TZID=UTC:20240331T090000
DTEND;TZID=UTC:20240331T120000
DTSTAMP:20260424T084850
CREATED:20240226T153045Z
LAST-MODIFIED:20240226T153138Z
UID:3216-1711875600-1711886400@princechapel.org
SUMMARY:Resurrection/Easter Sunday
DESCRIPTION:Resurrection/Easter Sunday \n9:00 am Easter Program \n10:00 am Resurrection Service
URL:https://princechapel.org/calendar/resurrection-easter-sunday/
END:VEVENT
BEGIN:VEVENT
DTSTART;VALUE=DATE:20240330
DTEND;VALUE=DATE:20240331
DTSTAMP:20260424T084850
CREATED:20240308T182113Z
LAST-MODIFIED:20240308T182113Z
UID:3256-1711756800-1711843199@princechapel.org
SUMMARY:Easter Egg Hunt & Easter Basket Give-Away
DESCRIPTION:
URL:https://princechapel.org/calendar/easter-egg-hunt-easter-basket-give-away/
END:VEVENT
BEGIN:VEVENT
DTSTART;TZID=UTC:20240329T120000
DTEND;TZID=UTC:20240329T150000
DTSTAMP:20260424T084850
CREATED:20240227T144745Z
LAST-MODIFIED:20240227T144745Z
UID:3241-1711713600-1711724400@princechapel.org
SUMMARY:7 Last Words of Christ — Food & Drinks Being Sold
DESCRIPTION:7 Last Words of Christ\n12:00 Noon to 3:00 pm.\nThe Choir will be selling Fish Dinners and the WMS will be selling drinks.
URL:https://princechapel.org/calendar/7-last-words-of-christ-food-drinks-being-sold/
END:VEVENT
BEGIN:VEVENT
DTSTART;TZID=UTC:20240329T120000
DTEND;TZID=UTC:20240329T140000
DTSTAMP:20260424T084850
CREATED:20240226T152704Z
LAST-MODIFIED:20240226T152834Z
UID:3213-1711713600-1711720800@princechapel.org
SUMMARY:25th Anniversary of “The 7 Last Words”
DESCRIPTION:25th Anniversary of “The 7 Last Words” @ 12pm
URL:https://princechapel.org/calendar/25th-anniversary-of-the-7-last-words/
END:VEVENT
BEGIN:VEVENT
DTSTART;VALUE=DATE:20240324
DTEND;VALUE=DATE:20240325
DTSTAMP:20260424T084850
CREATED:20240308T181838Z
LAST-MODIFIED:20240308T181838Z
UID:3254-1711238400-1711324799@princechapel.org
SUMMARY:Palm Sunday
DESCRIPTION:
URL:https://princechapel.org/calendar/palm-sunday/
END:VEVENT
BEGIN:VEVENT
DTSTART;TZID=UTC:20240321T183000
DTEND;TZID=UTC:20240321T193000
DTSTAMP:20260424T084850
CREATED:20240226T152138Z
LAST-MODIFIED:20240226T152138Z
UID:3205-1711045800-1711049400@princechapel.org
SUMMARY:Women’s Missionary Society Meeting
DESCRIPTION:Women’s Missionary Society Meeting 3rd Thursday of each month @6:30 pm via Zoom
URL:https://princechapel.org/calendar/womens-missionary-society-meeting-2/
END:VEVENT
BEGIN:VEVENT
DTSTART;TZID=UTC:20240319T183000
DTEND;TZID=UTC:20240319T193000
DTSTAMP:20260424T084850
CREATED:20240226T144745Z
LAST-MODIFIED:20240226T144745Z
UID:3171-1710873000-1710876600@princechapel.org
SUMMARY:Class Leaders Meeting
DESCRIPTION:Class Leaders 3rd Tuesday of each month @6:30 pm via Zoom
URL:https://princechapel.org/calendar/class-leaders-meeting/
END:VEVENT
BEGIN:VEVENT
DTSTART;TZID=UTC:20240317T100000
DTEND;TZID=UTC:20240317T120000
DTSTAMP:20260424T084850
CREATED:20240226T145115Z
LAST-MODIFIED:20240226T145115Z
UID:3173-1710669600-1710676800@princechapel.org
SUMMARY:Youth Sunday
DESCRIPTION:Youth Sunday every 3rd Sunday
URL:https://princechapel.org/calendar/youth-sunday/
END:VEVENT
BEGIN:VEVENT
DTSTART;TZID=UTC:20240314T183000
DTEND;TZID=UTC:20240314T193000
DTSTAMP:20260424T084850
CREATED:20240226T144045Z
LAST-MODIFIED:20240226T144045Z
UID:3167-1710441000-1710444600@princechapel.org
SUMMARY:Lay Organization Meeting
DESCRIPTION:Lay Organization 2nd Thursday of each month @6:30 pm via Zoo
URL:https://princechapel.org/calendar/lay-organization-meeting/
END:VEVENT
BEGIN:VEVENT
DTSTART;TZID=UTC:20240313T183000
DTEND;TZID=UTC:20240313T193000
DTSTAMP:20260424T084850
CREATED:20240304T180321Z
LAST-MODIFIED:20240304T180321Z
UID:3252-1710354600-1710358200@princechapel.org
SUMMARY:Bible Study : COME TO JESUS
DESCRIPTION:COME TO JESUS\nA Bible Study for Transformation\nBeginning March 13\, 2024\n6:30-7:30 PM\nONLINE VIA ZOOM
URL:https://princechapel.org/calendar/bible-study-come-to-jesus/
END:VEVENT
BEGIN:VEVENT
DTSTART;TZID=UTC:20240311T080000
DTEND;TZID=UTC:20240315T200000
DTSTAMP:20260424T084850
CREATED:20240226T151045Z
LAST-MODIFIED:20240226T151246Z
UID:3199-1710144000-1710532800@princechapel.org
SUMMARY:5th District Mid Year Conference
DESCRIPTION:5th District Mid Year Conference-Los Angeles\, CA
URL:https://princechapel.org/calendar/5th-district-mid-year-conference/
END:VEVENT
BEGIN:VEVENT
DTSTART;TZID=UTC:20240305T183000
DTEND;TZID=UTC:20240305T193000
DTSTAMP:20260424T084850
CREATED:20240226T143715Z
LAST-MODIFIED:20240226T143911Z
UID:3164-1709663400-1709667000@princechapel.org
SUMMARY:Steward Board Meeting
DESCRIPTION:Steward Board 1st Tuesday of each month @6:30 pm via Zoom
URL:https://princechapel.org/calendar/steward-board-1st-tuesday-of-each-month-630-pm-via-zoom/
END:VEVENT
BEGIN:VEVENT
DTSTART;VALUE=DATE:20221225
DTEND;VALUE=DATE:20221226
DTSTAMP:20260424T084850
CREATED:20211202T184157Z
LAST-MODIFIED:20211202T184326Z
UID:1810-1671926400-1672012799@princechapel.org
SUMMARY:Christmas
DESCRIPTION:
URL:https://princechapel.org/calendar/christmas/
END:VEVENT
BEGIN:VEVENT
DTSTART;VALUE=DATE:20221222
DTEND;VALUE=DATE:20221223
DTSTAMP:20260424T084850
CREATED:20220424T170301Z
LAST-MODIFIED:20220424T170301Z
UID:2133-1671667200-1671753599@princechapel.org
SUMMARY:Rev. Priest’s Birthday
DESCRIPTION:
URL:https://princechapel.org/calendar/rev-priests-birthday/
END:VEVENT
BEGIN:VEVENT
DTSTART;VALUE=DATE:20221215
DTEND;VALUE=DATE:20221216
DTSTAMP:20260424T084850
CREATED:20220424T171440Z
LAST-MODIFIED:20220424T171440Z
UID:2149-1671062400-1671148799@princechapel.org
SUMMARY:Women’s Missionary meets at 6:30 pm.
DESCRIPTION:
URL:https://princechapel.org/calendar/womens-missionary-meets-at-630-pm-8/
END:VEVENT
BEGIN:VEVENT
DTSTART;VALUE=DATE:20221124
DTEND;VALUE=DATE:20221125
DTSTAMP:20260424T084850
CREATED:20211202T184112Z
LAST-MODIFIED:20211202T184338Z
UID:1808-1669248000-1669334399@princechapel.org
SUMMARY:Thanksgiving
DESCRIPTION:
URL:https://princechapel.org/calendar/thanksgiving/
END:VEVENT
BEGIN:VEVENT
DTSTART;VALUE=DATE:20221117
DTEND;VALUE=DATE:20221118
DTSTAMP:20260424T084850
CREATED:20220424T171411Z
LAST-MODIFIED:20220424T171411Z
UID:2147-1668643200-1668729599@princechapel.org
SUMMARY:Women’s Missionary meets at 6:30 pm.
DESCRIPTION:
URL:https://princechapel.org/calendar/womens-missionary-meets-at-630-pm-7/
END:VEVENT
BEGIN:VEVENT
DTSTART;VALUE=DATE:20221020
DTEND;VALUE=DATE:20221021
DTSTAMP:20260424T084850
CREATED:20220424T171348Z
LAST-MODIFIED:20220424T171348Z
UID:2145-1666224000-1666310399@princechapel.org
SUMMARY:Women’s Missionary meets at 6:30 pm.
DESCRIPTION:
URL:https://princechapel.org/calendar/womens-missionary-meets-at-630-pm-6/
END:VEVENT
BEGIN:VEVENT
DTSTART;VALUE=DATE:20221019
DTEND;VALUE=DATE:20221023
DTSTAMP:20260424T084850
CREATED:20211119T154842Z
LAST-MODIFIED:20211119T155936Z
UID:1686-1666137600-1666483199@princechapel.org
SUMMARY:AFRICAN METHODIST EPISCOPAL CHURCH Fifth Episcopal District 2021 – 2022 Conference Schedule
DESCRIPTION:(All meetings to be held in a Hybrid format – Virtual and In-person) \n168th Missouri Annual Conference\nHost:  St James\, St Louis\, MO \nNOTE:  Wednesday:   Available for Component Meetings\nThursday:  The Opening Day for each of the SIX Annual Conferences.  The Organization will take place in the morning.  The Annual Sermon will be in the evening.\nSaturday midmorning:  The Closing/Commissioning Service will be held for the PACIFIC NORTHWEST; DESERT MOUNTAIN; AND MISSOURI ANNUAL CONFERENCES.\nSunday afternoon:  The Closing/Commissioning Service will be held for the CALIFORNIA; MIDWEST; AND SOUTHERN CALIFORNIA CONFERENCES \nThe complete “Daily Agenda” is forthcoming.
URL:https://princechapel.org/calendar/african-methodist-episcopal-church-fifth-episcopal-district-2021-2022-conference-schedule-7/
LOCATION:Hilton Hotel\, St Louis Airport
END:VEVENT
BEGIN:VEVENT
DTSTART;VALUE=DATE:20221012
DTEND;VALUE=DATE:20221017
DTSTAMP:20260424T084850
CREATED:20211119T154634Z
LAST-MODIFIED:20211119T155850Z
UID:1684-1665532800-1665964799@princechapel.org
SUMMARY:AFRICAN METHODIST EPISCOPAL CHURCH Fifth Episcopal District 2021 – 2022 Conference Schedule
DESCRIPTION:(All meetings to be held in a Hybrid format – Virtual and In-person) \n98th Southern California  Annual Conference\nHost:  New Philadelphia\, Long Beach \nNOTE:  Wednesday:   Available for Component Meetings\nThursday:  The Opening Day for each of the SIX Annual Conferences.  The Organization will take place in the morning.  The Annual Sermon will be in the evening.\nSaturday midmorning:  The Closing/Commissioning Service will be held for the PACIFIC NORTHWEST; DESERT MOUNTAIN; AND MISSOURI ANNUAL CONFERENCES.\nSunday afternoon:  The Closing/Commissioning Service will be held for the CALIFORNIA; MIDWEST; AND SOUTHERN CALIFORNIA CONFERENCES \nThe complete “Daily Agenda” is forthcoming.
URL:https://princechapel.org/calendar/african-methodist-episcopal-church-fifth-episcopal-district-2021-2022-conference-schedule-6/
LOCATION:Hilton Hotel (LAX)\, Los Angeles\, CA
END:VEVENT
BEGIN:VEVENT
DTSTART;VALUE=DATE:20220927
DTEND;VALUE=DATE:20221003
DTSTAMP:20260424T084850
CREATED:20211119T154416Z
LAST-MODIFIED:20211119T155809Z
UID:1682-1664236800-1664755199@princechapel.org
SUMMARY:AFRICAN METHODIST EPISCOPAL CHURCH Fifth Episcopal District 2021 – 2022 Conference Schedule
DESCRIPTION:(All meetings to be held in a Hybrid format – Virtual and In-person) \n158th California Annual Conference\nHost:  Parks Chapel\, Oakland\, CA \nNOTE:  Wednesday:   Available for Component Meetings\nThursday:  The Opening Day for each of the SIX Annual Conferences.  The Organization will take place in the morning.  The Annual Sermon will be in the evening.\nSaturday midmorning:  The Closing/Commissioning Service will be held for the PACIFIC NORTHWEST; DESERT MOUNTAIN; AND MISSOURI ANNUAL CONFERENCES.\nSunday afternoon:  The Closing/Commissioning Service will be held for the CALIFORNIA; MIDWEST; AND SOUTHERN CALIFORNIA CONFERENCES \nThe complete “Daily Agenda” is forthcoming.
URL:https://princechapel.org/calendar/african-methodist-episcopal-church-fifth-episcopal-district-2021-2022-conference-schedule-5/
LOCATION:Hilton Hotel\, St Louis Airport
END:VEVENT
BEGIN:VEVENT
DTSTART;VALUE=DATE:20220925
DTEND;VALUE=DATE:20220926
DTSTAMP:20260424T084850
CREATED:20211202T184005Z
LAST-MODIFIED:20211202T184728Z
UID:1806-1664064000-1664150399@princechapel.org
SUMMARY:Mt. Moriah: 15th Church Anniversary Celebration
DESCRIPTION:
URL:https://princechapel.org/calendar/mt-moriah-15th-church-anniversary-celebration/
END:VEVENT
END:VCALENDAR