BEGIN:VCALENDAR
VERSION:2.0
PRODID:-//Prince Chapel AME Church - ECPv6.15.10//NONSGML v1.0//EN
CALSCALE:GREGORIAN
METHOD:PUBLISH
X-WR-CALNAME:Prince Chapel AME Church
X-ORIGINAL-URL:https://princechapel.org
X-WR-CALDESC:Events for Prince Chapel AME Church
REFRESH-INTERVAL;VALUE=DURATION:PT1H
X-Robots-Tag:noindex
X-PUBLISHED-TTL:PT1H
BEGIN:VTIMEZONE
TZID:UTC
BEGIN:STANDARD
TZOFFSETFROM:+0000
TZOFFSETTO:+0000
TZNAME:UTC
DTSTART:20230101T000000
END:STANDARD
END:VTIMEZONE
BEGIN:VEVENT
DTSTART;TZID=UTC:20241222T100000
DTEND;TZID=UTC:20241222T233000
DTSTAMP:20260424T001649
CREATED:20241125T070048Z
LAST-MODIFIED:20241125T164726Z
UID:3581-1734861600-1734910200@princechapel.org
SUMMARY:SUNDAY WORSHIP
DESCRIPTION:SUNDAY WORSHIP  10:00 am
URL:https://princechapel.org/calendar/sunday-worship-6/
END:VEVENT
BEGIN:VEVENT
DTSTART;TZID=UTC:20241218T183000
DTEND;TZID=UTC:20241218T193000
DTSTAMP:20260424T001649
CREATED:20241125T070059Z
LAST-MODIFIED:20241125T163432Z
UID:3567-1734546600-1734550200@princechapel.org
SUMMARY:PRAYER & BIBLE STUDY
DESCRIPTION:PRAYER & BIBLE STUDY • Wednesdays • 6:30p – 7:30p • ONLINE VIA ZOOM
URL:https://princechapel.org/calendar/prayer-bible-study-5/
END:VEVENT
BEGIN:VEVENT
DTSTART;TZID=UTC:20241215T100000
DTEND;TZID=UTC:20241215T233000
DTSTAMP:20260424T001649
CREATED:20241125T070055Z
LAST-MODIFIED:20241125T164623Z
UID:3579-1734256800-1734305400@princechapel.org
SUMMARY:SUNDAY WORSHIP
DESCRIPTION:SUNDAY WORSHIP  10:00 am
URL:https://princechapel.org/calendar/sunday-worship-5/
END:VEVENT
BEGIN:VEVENT
DTSTART;TZID=UTC:20241211T183000
DTEND;TZID=UTC:20241211T193000
DTSTAMP:20260424T001649
CREATED:20241125T070000Z
LAST-MODIFIED:20241125T163344Z
UID:3565-1733941800-1733945400@princechapel.org
SUMMARY:PRAYER & BIBLE STUDY
DESCRIPTION:PRAYER & BIBLE STUDY • Wednesdays • 6:30p – 7:30p • ONLINE VIA ZOOM
URL:https://princechapel.org/calendar/prayer-bible-study-4/
END:VEVENT
BEGIN:VEVENT
DTSTART;TZID=UTC:20241208T100000
DTEND;TZID=UTC:20241208T233000
DTSTAMP:20260424T001649
CREATED:20241125T070039Z
LAST-MODIFIED:20241125T164315Z
UID:3577-1733652000-1733700600@princechapel.org
SUMMARY:SUNDAY WORSHIP
DESCRIPTION:SUNDAY WORSHIP  10:00 am
URL:https://princechapel.org/calendar/sunday-worship-4/
END:VEVENT
BEGIN:VEVENT
DTSTART;TZID=UTC:20241208T100000
DTEND;TZID=UTC:20241208T120000
DTSTAMP:20260424T001649
CREATED:20241105T061038Z
LAST-MODIFIED:20241105T061443Z
UID:3517-1733652000-1733659200@princechapel.org
SUMMARY:Prince Chapel AME: ANNUAL STEWARD'S DAY
DESCRIPTION:Prince Chapel AME: ANNUAL STEWARD’S DAY\,\n“Growing Together — Building Our Faith”\nSunday\, December 08\, 2024 @ 10a
URL:https://princechapel.org/calendar/prince-chapel-ame-annual-stewards-day-2/
END:VEVENT
BEGIN:VEVENT
DTSTART;TZID=UTC:20241204T183000
DTEND;TZID=UTC:20241204T193000
DTSTAMP:20260424T001649
CREATED:20241125T070023Z
LAST-MODIFIED:20241125T163031Z
UID:3562-1733337000-1733340600@princechapel.org
SUMMARY:PRAYER & BIBLE STUDY
DESCRIPTION:PRAYER & BIBLE STUDY • Wednesdays • 6:30p – 7:30p • ONLINE VIA ZOOM
URL:https://princechapel.org/calendar/prayer-bible-study-3/
END:VEVENT
BEGIN:VEVENT
DTSTART;TZID=UTC:20241201T100000
DTEND;TZID=UTC:20241201T233000
DTSTAMP:20260424T001649
CREATED:20241125T070026Z
LAST-MODIFIED:20241125T164207Z
UID:3575-1733047200-1733095800@princechapel.org
SUMMARY:SUNDAY WORSHIP
DESCRIPTION:SUNDAY WORSHIP  10:00 am
URL:https://princechapel.org/calendar/sunday-worship-3/
END:VEVENT
BEGIN:VEVENT
DTSTART;TZID=UTC:20241127T183000
DTEND;TZID=UTC:20241127T193000
DTSTAMP:20260424T001649
CREATED:20241125T070049Z
LAST-MODIFIED:20241125T163134Z
UID:3561-1732732200-1732735800@princechapel.org
SUMMARY:PRAYER & BIBLE STUDY
DESCRIPTION:PRAYER & BIBLE STUDY • Wednesdays • 6:30p – 7:30p • ONLINE VIA ZOOM
URL:https://princechapel.org/calendar/prayer-bible-study-2/
END:VEVENT
BEGIN:VEVENT
DTSTART;TZID=UTC:20241124T100000
DTEND;TZID=UTC:20241124T233000
DTSTAMP:20260424T001649
CREATED:20241125T070007Z
LAST-MODIFIED:20241125T164049Z
UID:3573-1732442400-1732491000@princechapel.org
SUMMARY:SUNDAY WORSHIP
DESCRIPTION:SUNDAY WORSHIP  10:00 am
URL:https://princechapel.org/calendar/sunday-worship-2/
END:VEVENT
BEGIN:VEVENT
DTSTART;TZID=UTC:20241120T183000
DTEND;TZID=UTC:20241120T193000
DTSTAMP:20260424T001649
CREATED:20241125T161325Z
LAST-MODIFIED:20241125T161325Z
UID:3559-1732127400-1732131000@princechapel.org
SUMMARY:PRAYER & BIBLE STUDY
DESCRIPTION:PRAYER & BIBLE STUDY • Wednesdays • 6:30p – 7:30p • ONLINE VIA ZOOM
URL:https://princechapel.org/calendar/prayer-bible-study/
END:VEVENT
BEGIN:VEVENT
DTSTART;TZID=UTC:20241117T100000
DTEND;TZID=UTC:20241117T233000
DTSTAMP:20260424T001649
CREATED:20241125T070053Z
LAST-MODIFIED:20241125T164000Z
UID:3571-1731837600-1731886200@princechapel.org
SUMMARY:SUNDAY WORSHIP
DESCRIPTION:SUNDAY WORSHIP  10:00 am
URL:https://princechapel.org/calendar/sunday-worship/
END:VEVENT
BEGIN:VEVENT
DTSTART;TZID=UTC:20241109T150000
DTEND;TZID=UTC:20241109T180000
DTSTAMP:20260424T001649
CREATED:20241104T151633Z
LAST-MODIFIED:20241104T151633Z
UID:3509-1731164400-1731175200@princechapel.org
SUMMARY:Prince Chapel AME: FALL FESTIVAL
DESCRIPTION:Prince Chapel AME: FALL FESTIVAL\nSaturday\, November 9th\, 2024 • 3p-6p
URL:https://princechapel.org/calendar/prince-chapel-ame-fall-festival/
END:VEVENT
BEGIN:VEVENT
DTSTART;TZID=UTC:20241012T120000
DTEND;TZID=UTC:20241012T140000
DTSTAMP:20260424T001649
CREATED:20240826T140941Z
LAST-MODIFIED:20240915T124213Z
UID:3420-1728734400-1728741600@princechapel.org
SUMMARY:The 7 "I AM" STATEMENTS OF CHRIST
DESCRIPTION:The 7 “I AM” STATEMENTS OF CHRIST
URL:https://princechapel.org/calendar/the-7-i-am-statements-of-christ/
LOCATION:Prince Chapel AME Church\, 602 S. Stone Ave.\, Tucson\, AZ
END:VEVENT
BEGIN:VEVENT
DTSTART;VALUE=DATE:20240918
DTEND;VALUE=DATE:20240925
DTSTAMP:20260424T001649
CREATED:20240227T144023Z
LAST-MODIFIED:20240227T144023Z
UID:3239-1726617600-1727222399@princechapel.org
SUMMARY:138th Session of Desert Mountain Annual Conference
DESCRIPTION:138th Session of Desert Mountain Annual Conference\nPhoenix\, AZ
URL:https://princechapel.org/calendar/138th-session-of-desert-mountain-annual-conference/
END:VEVENT
BEGIN:VEVENT
DTSTART;VALUE=DATE:20240821
DTEND;VALUE=DATE:20240829
DTSTAMP:20260424T001649
CREATED:20240227T143755Z
LAST-MODIFIED:20240227T143755Z
UID:3237-1724198400-1724889599@princechapel.org
SUMMARY:52nd Quadrennial Session of the General Conference
DESCRIPTION:52nd Quadrennial Session of the General Conference\nColumbus\, Ohio
URL:https://princechapel.org/calendar/52nd-quadrennial-session-of-the-general-conference/
END:VEVENT
BEGIN:VEVENT
DTSTART;VALUE=DATE:20240713
DTEND;VALUE=DATE:20240714
DTSTAMP:20260424T001649
CREATED:20240227T143526Z
LAST-MODIFIED:20240227T143526Z
UID:3235-1720828800-1720915199@princechapel.org
SUMMARY:Elder E. Teresa Nelson’s Retirement Celebration
DESCRIPTION:Elder E. Teresa Nelson’s Retirement Celebration
URL:https://princechapel.org/calendar/elder-e-teresa-nelsons-retirement-celebration/
END:VEVENT
BEGIN:VEVENT
DTSTART;TZID=UTC:20240623T100000
DTEND;TZID=UTC:20240623T113000
DTSTAMP:20260424T001649
CREATED:20240521T145304Z
LAST-MODIFIED:20240521T145649Z
UID:3314-1719136800-1719142200@princechapel.org
SUMMARY:Prince Chapel AME: ANNUAL STEWARD’S DAY
DESCRIPTION:Prince Chapel AME: ANNUAL STEWARD’S DAY\n“Growing Together — Building Our Faith”\nGuest Preacher: Presiding Elder Curry-Hodge\, Rocky Mountain District
URL:https://princechapel.org/calendar/prince-chapel-ame-annual-stewards-day/
END:VEVENT
BEGIN:VEVENT
DTSTART;VALUE=DATE:20240623
DTEND;VALUE=DATE:20240624
DTSTAMP:20260424T001649
CREATED:20240227T143300Z
LAST-MODIFIED:20240227T143300Z
UID:3233-1719100800-1719187199@princechapel.org
SUMMARY:Stewards Day
DESCRIPTION:Stewards Day\nPE Curry Hodge\, Speaker
URL:https://princechapel.org/calendar/stewards-day/
END:VEVENT
BEGIN:VEVENT
DTSTART;TZID=UTC:20240620T183000
DTEND;TZID=UTC:20240620T193000
DTSTAMP:20260424T001649
CREATED:20240226T152325Z
LAST-MODIFIED:20240226T152325Z
UID:3211-1718908200-1718911800@princechapel.org
SUMMARY:Women’s Missionary Society Meeting
DESCRIPTION:Women’s Missionary Society Meeting 3rd Thursday of each month @6:30 pm via Zoom
URL:https://princechapel.org/calendar/womens-missionary-society-meeting-5/
END:VEVENT
BEGIN:VEVENT
DTSTART;TZID=UTC:20240618T183000
DTEND;TZID=UTC:20240618T193000
DTSTAMP:20260424T001649
CREATED:20240226T150537Z
LAST-MODIFIED:20240226T150537Z
UID:3197-1718735400-1718739000@princechapel.org
SUMMARY:Class Leaders Meeting
DESCRIPTION:Class Leaders 3rd Tuesday of each month @6:30 pm via Zoom
URL:https://princechapel.org/calendar/class-leaders-meeting-4/
END:VEVENT
BEGIN:VEVENT
DTSTART;TZID=UTC:20240616T100000
DTEND;TZID=UTC:20240616T120000
DTSTAMP:20260424T001649
CREATED:20240226T150211Z
LAST-MODIFIED:20240226T150211Z
UID:3191-1718532000-1718539200@princechapel.org
SUMMARY:Youth Sunday
DESCRIPTION:Youth Sunday every 3rd Sunday
URL:https://princechapel.org/calendar/youth-sunday-4/
END:VEVENT
BEGIN:VEVENT
DTSTART;VALUE=DATE:20240616
DTEND;VALUE=DATE:20240617
DTSTAMP:20260424T001649
CREATED:20240227T143030Z
LAST-MODIFIED:20240227T143030Z
UID:3231-1718496000-1718582399@princechapel.org
SUMMARY:Father’s Day/Men’s Day – Men’s Ministry
DESCRIPTION:Father’s Day/Men’s Day – Men’s Ministry
URL:https://princechapel.org/calendar/fathers-day-mens-day-mens-ministry/
END:VEVENT
BEGIN:VEVENT
DTSTART;TZID=UTC:20240613T183000
DTEND;TZID=UTC:20240613T193000
DTSTAMP:20260424T001649
CREATED:20240226T145936Z
LAST-MODIFIED:20240226T145936Z
UID:3185-1718303400-1718307000@princechapel.org
SUMMARY:Lay Organization Meeting
DESCRIPTION:Lay Organization 2nd Thursday of each month @6:30 pm via Zoo
URL:https://princechapel.org/calendar/lay-organization-meeting-4/
END:VEVENT
BEGIN:VEVENT
DTSTART;TZID=UTC:20240604T183000
DTEND;TZID=UTC:20240604T193000
DTSTAMP:20260424T001649
CREATED:20240226T145622Z
LAST-MODIFIED:20240226T145622Z
UID:3179-1717525800-1717529400@princechapel.org
SUMMARY:Steward Board Meeting
DESCRIPTION:Steward Board 1st Tuesday of each month @6:30 pm via Zoom
URL:https://princechapel.org/calendar/steward-board-meeting-3/
END:VEVENT
BEGIN:VEVENT
DTSTART;TZID=UTC:20240521T183000
DTEND;TZID=UTC:20240521T193000
DTSTAMP:20260424T001649
CREATED:20240226T150459Z
LAST-MODIFIED:20240226T150459Z
UID:3195-1716316200-1716319800@princechapel.org
SUMMARY:Class Leaders Meeting
DESCRIPTION:Class Leaders 3rd Tuesday of each month @6:30 pm via Zoom
URL:https://princechapel.org/calendar/class-leaders-meeting-3/
END:VEVENT
BEGIN:VEVENT
DTSTART;TZID=UTC:20240519T100000
DTEND;TZID=UTC:20240519T120000
DTSTAMP:20260424T001649
CREATED:20240226T150132Z
LAST-MODIFIED:20240226T150132Z
UID:3189-1716112800-1716120000@princechapel.org
SUMMARY:Youth Sunday
DESCRIPTION:Youth Sunday every 3rd Sunday
URL:https://princechapel.org/calendar/youth-sunday-3/
END:VEVENT
BEGIN:VEVENT
DTSTART;TZID=UTC:20240516T183000
DTEND;TZID=UTC:20240516T193000
DTSTAMP:20260424T001649
CREATED:20240226T152249Z
LAST-MODIFIED:20240226T152249Z
UID:3209-1715884200-1715887800@princechapel.org
SUMMARY:Women’s Missionary Society Meeting
DESCRIPTION:Women’s Missionary Society Meeting 3rd Thursday of each month @6:30 pm via Zoom
URL:https://princechapel.org/calendar/womens-missionary-society-meeting-4/
END:VEVENT
BEGIN:VEVENT
DTSTART;TZID=UTC:20240512T070000
DTEND;TZID=UTC:20240512T090000
DTSTAMP:20260424T001649
CREATED:20240227T142643Z
LAST-MODIFIED:20240423T231121Z
UID:3229-1715497200-1715504400@princechapel.org
SUMMARY:Mother’s Day - 2nd Sunday
DESCRIPTION:Mother’s Day – 2nd Sunday
URL:https://princechapel.org/calendar/mothers-day-2nd-sunday/
END:VEVENT
BEGIN:VEVENT
DTSTART;TZID=UTC:20240509T183000
DTEND;TZID=UTC:20240509T193000
DTSTAMP:20260424T001649
CREATED:20240226T145900Z
LAST-MODIFIED:20240226T145900Z
UID:3183-1715279400-1715283000@princechapel.org
SUMMARY:Lay Organization Meeting
DESCRIPTION:Lay Organization 2nd Thursday of each month @6:30 pm via Zoo
URL:https://princechapel.org/calendar/lay-organization-meeting-3/
END:VEVENT
END:VCALENDAR