BEGIN:VCALENDAR
VERSION:2.0
PRODID:-//Prince Chapel AME Church - ECPv6.15.10//NONSGML v1.0//EN
CALSCALE:GREGORIAN
METHOD:PUBLISH
X-WR-CALNAME:Prince Chapel AME Church
X-ORIGINAL-URL:https://princechapel.org
X-WR-CALDESC:Events for Prince Chapel AME Church
REFRESH-INTERVAL;VALUE=DURATION:PT1H
X-Robots-Tag:noindex
X-PUBLISHED-TTL:PT1H
BEGIN:VTIMEZONE
TZID:UTC
BEGIN:STANDARD
TZOFFSETFROM:+0000
TZOFFSETTO:+0000
TZNAME:UTC
DTSTART:20200101T000000
END:STANDARD
END:VTIMEZONE
BEGIN:VEVENT
DTSTART;VALUE=DATE:20220219
DTEND;VALUE=DATE:20220220
DTSTAMP:20260425T074250
CREATED:20211202T181350Z
LAST-MODIFIED:20211202T181350Z
UID:1773-1645228800-1645315199@princechapel.org
SUMMARY:Holy Trinity Unity In The Community: “Black History Celebration”
DESCRIPTION:
URL:https://princechapel.org/calendar/holy-trinity-unity-in-the-community-black-history-celebration/
END:VEVENT
BEGIN:VEVENT
DTSTART;VALUE=DATE:20220213
DTEND;VALUE=DATE:20220214
DTSTAMP:20260425T074250
CREATED:20211202T181258Z
LAST-MODIFIED:20211202T181258Z
UID:1771-1644710400-1644796799@princechapel.org
SUMMARY:Mt. Moriah – Founder’s Day • Maricopa\, AZ\,
DESCRIPTION:
URL:https://princechapel.org/calendar/mt-moriah-founders-day-maricopa-az/
END:VEVENT
BEGIN:VEVENT
DTSTART;VALUE=DATE:20220122
DTEND;VALUE=DATE:20220123
DTSTAMP:20260425T074250
CREATED:20220110T050456Z
LAST-MODIFIED:20220110T050456Z
UID:1841-1642809600-1642895999@princechapel.org
SUMMARY:UNIVERSITY of ARIZONA Office of Diversity & Inclusion: MLK Celebration Week • Friday Diversity Symposium Day 2 - Open to UA Grad Students\, Staff\, and Faculty
DESCRIPTION:Friday Diversity Symposium Day 2 – Open to UA Grad Students\, Staff\, and Faculty \nSchedule at a Glance \n1) Breakfast \n2) Workshops \n3) Networking Luncheon \n4) Workshops
URL:https://princechapel.org/calendar/university-of-arizona-office-of-diversity-inclusion-mlk-celebration-week-friday-diversity-symposium-day-2-open-to-ua-grad-students-staff-and-faculty/
END:VEVENT
BEGIN:VEVENT
DTSTART;VALUE=DATE:20220122
DTEND;VALUE=DATE:20220123
DTSTAMP:20260425T074250
CREATED:20211202T180934Z
LAST-MODIFIED:20211202T180934Z
UID:1767-1642809600-1642895999@princechapel.org
SUMMARY:Mt.Moriah - WMS Prayer Breakfast
DESCRIPTION:
URL:https://princechapel.org/calendar/mt-moriah-wms-prayer-breakfast/
END:VEVENT
BEGIN:VEVENT
DTSTART;VALUE=DATE:20220120
DTEND;VALUE=DATE:20220121
DTSTAMP:20260425T074250
CREATED:20220110T045347Z
LAST-MODIFIED:20220110T045347Z
UID:1839-1642636800-1642723199@princechapel.org
SUMMARY:UNIVERSITY of ARIZONA Office of Diversity & Inclusion: MLK Celebration Week • Thursday Diversity Symposium Day 1 – Open to UA Grad Students\, Staff\, and Faculty
DESCRIPTION:Thursday Diversity Symposium Day 1 – Open to UA Grad Students\, Staff\, and Faculty \n1. Pre-Symposium Workshops \na. Film discussion \nb. Workshops: 2 – 3 hours in length that come with Certification offerings \n2. State of Diversity Awards Dinner \na. SPEAKERS: President Robbins and Dr. Frederick Gooding \nb. Youth African Dance and Drum Performance \nc. Award
URL:https://princechapel.org/calendar/university-of-arizona-office-of-diversity-inclusion-mlk-celebration-week-thursday-diversity-symposium-day-1-open-to-ua-grad-students-staff-and-faculty/
END:VEVENT
BEGIN:VEVENT
DTSTART;VALUE=DATE:20220119
DTEND;VALUE=DATE:20220120
DTSTAMP:20260425T074250
CREATED:20220110T045031Z
LAST-MODIFIED:20220110T045031Z
UID:1837-1642550400-1642636799@princechapel.org
SUMMARY:UNIVERSITY of ARIZONA Office of Diversity & Inclusion: MLK Celebration Week • Wednesday Diversity Film Series & Pre-Symposium Event
DESCRIPTION:1/19/22 Wednesday Diversity Film Series & Pre-Symposium Event \n1) Power of Diversity Film Series 7:00PM – Gallagher Theatre Student Union \na. 1st installation in the ODI Film Series \nb. Film discussion part of the Pre-Summit Workshops (Thursday 1/21/22) c. Lead into the Human Library Event (April)
URL:https://princechapel.org/calendar/university-of-arizona-office-of-diversity-inclusion-mlk-celebration-week-wednesday-diversity-film-series-pre-symposium-event/
END:VEVENT
BEGIN:VEVENT
DTSTART;VALUE=DATE:20220118
DTEND;VALUE=DATE:20220119
DTSTAMP:20260425T074250
CREATED:20220110T044555Z
LAST-MODIFIED:20220110T044555Z
UID:1834-1642464000-1642550399@princechapel.org
SUMMARY:UNIVERSITY of ARIZONA Office of Diversity & Inclusion: MLK Celebration Week • Tuesday Sunrise Blessing /Truth & Racial Healing Transformation Center Lunch
DESCRIPTION:1/18/22 Tuesday Sunrise Blessing /Truth & Racial Healing Transformation Center Lunch \n1) Non-Denominational Blessing 8:00AM – Partnership with URC & Local Clergy \na) UA Mall area – Main Stage or Old Main \nb) Coffee & Pastries – Pending sponsorship \n2) Lunch and Learn “Truth Racial Healing Transformation Day
URL:https://princechapel.org/calendar/university-of-arizona-office-of-diversity-inclusion-mlk-celebration-week-tuesday-sunrise-blessing-truth-racial-healing-transformation-center-lunch/
END:VEVENT
BEGIN:VEVENT
DTSTART;VALUE=DATE:20220117
DTEND;VALUE=DATE:20220118
DTSTAMP:20260425T074250
CREATED:20220110T044259Z
LAST-MODIFIED:20220110T044259Z
UID:1832-1642377600-1642463999@princechapel.org
SUMMARY:UNIVERSITY of ARIZONA Office of Diversity & Inclusion: MLK Celebration Week • Monday Tucson MLK Committee March
DESCRIPTION:1/17/22 – Monday Tucson MLK Committee March \n1) Encourage UA Community to support the Tucson MLK Committee Activities \n  \n1/17/22 – UofA Day of Service 10AM-5PM \n1) Day of Service Kick Off – On campus outdoor space. T-Shirt distribution and Pep Talk \n2) Tentative Partners: CIELO\, CRCs\, Athletics\, Fraternity & Sorority Programs\, ASUA\, COBO\, Advisory \nCouncils\, Blue Chip\, Colleges\, Veterans\, AmeriCorps (community partner) \n3) Create ~5 opportunities around the city to do service projects \na) CIELO – Logistics \nb) AmeriCorp – Community Volunteer Partners \nc) Honors College/Blue Chip/Athletics/Vets/ASUA– Campus Volunteer Partners \n4) Possible Service Sites: \na) Sister Jose – Homeless Women’s Shelter \nb) Tucson Village Farm \nc) Lend a Hand: https://www.lahseniorhelp.org \nd) Muslim Community Alliance/Task Force: Lynn Chourani (lchourani@aol.com ) \ne) Pima Council on Aging (PCOA): 520-790-7262 email: help@pcoa.org https://pcoa.org \nf) Felicia’s Farm: Cathy Lolwing 520-396-0015 (director and donates farm fresh goods to our homeless \nfeeding program) https://www.feliciasfarm.org \ng) Primavera Foundation Women/Family Shelters: https://www.primavera.org/how-to-help- \nmore/overview.html
URL:https://princechapel.org/calendar/university-of-arizona-office-of-diversity-inclusion-mlk-celebration-week-monday-tucson-mlk-committee-march/
END:VEVENT
BEGIN:VEVENT
DTSTART;VALUE=DATE:20220116
DTEND;VALUE=DATE:20220117
DTSTAMP:20260425T074250
CREATED:20220110T044007Z
LAST-MODIFIED:20220110T044007Z
UID:1830-1642291200-1642377599@princechapel.org
SUMMARY:UNIVERSITY of ARIZONA Office of Diversity & Inclusion: MLK Celebration Week • Sunday March & Festival– UA Mall
DESCRIPTION:1/16/22 – Sunday March & Festival– UA Mall\nCommemorative March: 1PM – 2PM \n1) Remarks: President Robbins\, Ivy Banks\, Community Leaders \n2) March led by Senior Leadership Team\, University Religious Council & Local Area Clergy \n3) African American Museum of Southern Arizona Award \nFestival: 2PM-5PM \n1) University Student Orgs – host family friendly booths (fundraising\, info\, carnival games) \n2) Community Partners/Orgs – host informational booths (info and giveaways) \n3) Petting Zoo – Hosted by Veterinary Medicine \n4) Local Entertainment (special highlighted youth programs and student groups) \n5) UofA Band & Mascots \n6) “Harnessing the Power” Luminarias – ODI Scholarship Fundraiser 5:15PM \na) Powering the Luminarias – Dean Washington White
URL:https://princechapel.org/calendar/university-of-arizona-office-of-diversity-inclusion-mlk-celebration-week-sunday-march-festival-ua-mall/
END:VEVENT
BEGIN:VEVENT
DTSTART;VALUE=DATE:20220116
DTEND;VALUE=DATE:20220117
DTSTAMP:20260425T074250
CREATED:20211202T181109Z
LAST-MODIFIED:20211202T181109Z
UID:1769-1642291200-1642377599@princechapel.org
SUMMARY:Holy Trinity Community 27th Church Anniversary Celebration
DESCRIPTION:
URL:https://princechapel.org/calendar/holy-trinity-community-27th-church-anniversary-celebration/
END:VEVENT
BEGIN:VEVENT
DTSTART;VALUE=DATE:20220115
DTEND;VALUE=DATE:20220116
DTSTAMP:20260425T074250
CREATED:20211202T154444Z
LAST-MODIFIED:20211202T154444Z
UID:1764-1642204800-1642291199@princechapel.org
SUMMARY:Martin Luther Kings Birthday
DESCRIPTION:
URL:https://princechapel.org/calendar/martin-luther-kings-birthday/
END:VEVENT
BEGIN:VEVENT
DTSTART;VALUE=DATE:20220101
DTEND;VALUE=DATE:20220102
DTSTAMP:20260425T074250
CREATED:20211202T154342Z
LAST-MODIFIED:20211202T154342Z
UID:1762-1640995200-1641081599@princechapel.org
SUMMARY:Happy New Year
DESCRIPTION:
URL:https://princechapel.org/calendar/happy-new-year/
END:VEVENT
BEGIN:VEVENT
DTSTART;VALUE=DATE:20211225
DTEND;VALUE=DATE:20211226
DTSTAMP:20260425T074250
CREATED:20211202T024750Z
LAST-MODIFIED:20211202T042211Z
UID:1747-1640390400-1640476799@princechapel.org
SUMMARY:Merry Christmas
DESCRIPTION:
URL:https://princechapel.org/calendar/merry-christmas/
END:VEVENT
BEGIN:VEVENT
DTSTART;TZID=UTC:20211214T100000
DTEND;TZID=UTC:20211214T120000
DTSTAMP:20260425T074250
CREATED:20211201T175207Z
LAST-MODIFIED:20211201T175207Z
UID:1742-1639476000-1639483200@princechapel.org
SUMMARY:Church Anniversary Celebration
DESCRIPTION:
URL:https://princechapel.org/calendar/church-anniversary-celebration/
END:VEVENT
BEGIN:VEVENT
DTSTART;TZID=UTC:20211206T080000
DTEND;TZID=UTC:20211208T170000
DTSTAMP:20260425T074250
CREATED:20211119T152137Z
LAST-MODIFIED:20211119T155346Z
UID:1666-1638777600-1638982800@princechapel.org
SUMMARY:AFRICAN METHODIST EPISCOPAL CHURCH Fifth Episcopal District 2021 – 2022 Conference Schedule
DESCRIPTION:(All meetings to be held in a Hybrid format – Virtual and In-person) \nGeneral Board and Investiture of Council of Bishops President \nNOTE:  Wednesday:   Available for Component Meetings\nThursday:  The Opening Day for each of the SIX Annual Conferences.  The Organization will take place in the morning.  The Annual Sermon will be in the evening.\nSaturday midmorning:  The Closing/Commissioning Service will be held for the PACIFIC NORTHWEST; DESERT MOUNTAIN; AND MISSOURI ANNUAL CONFERENCES.\nSunday afternoon:  The Closing/Commissioning Service will be held for the CALIFORNIA; MIDWEST; AND SOUTHERN CALIFORNIA CONFERENCES \nThe complete “Daily Agenda” is forthcoming.
URL:https://princechapel.org/calendar/african-methodist-episcopal-church-fifth-episcopal-district/
LOCATION:Opryland Hotel and Resort\, Nashville\, TN
END:VEVENT
BEGIN:VEVENT
DTSTART;VALUE=DATE:20211205
DTEND;VALUE=DATE:20211206
DTSTAMP:20260425T074250
CREATED:20211201T174935Z
LAST-MODIFIED:20211202T024602Z
UID:1740-1638662400-1638748799@princechapel.org
SUMMARY:Mt. Moriah 14th Church Anniversary Celebration
DESCRIPTION:
URL:https://princechapel.org/calendar/mt-moriah/
END:VEVENT
END:VCALENDAR