BEGIN:VCALENDAR
VERSION:2.0
PRODID:-//Prince Chapel AME Church - ECPv6.15.10//NONSGML v1.0//EN
CALSCALE:GREGORIAN
METHOD:PUBLISH
X-WR-CALNAME:Prince Chapel AME Church
X-ORIGINAL-URL:https://princechapel.org
X-WR-CALDESC:Events for Prince Chapel AME Church
REFRESH-INTERVAL;VALUE=DURATION:PT1H
X-Robots-Tag:noindex
X-PUBLISHED-TTL:PT1H
BEGIN:VTIMEZONE
TZID:UTC
BEGIN:STANDARD
TZOFFSETFROM:+0000
TZOFFSETTO:+0000
TZNAME:UTC
DTSTART:20240101T000000
END:STANDARD
END:VTIMEZONE
BEGIN:VEVENT
DTSTART;VALUE=DATE:20250309
DTEND;VALUE=DATE:20250310
DTSTAMP:20260423T164037
CREATED:20250108T111439Z
LAST-MODIFIED:20250108T111439Z
UID:3680-1741478400-1741564799@princechapel.org
SUMMARY:Friends and Family Day
DESCRIPTION:Friends and Family Day
URL:https://princechapel.org/calendar/friends-and-family-day/
END:VEVENT
BEGIN:VEVENT
DTSTART;VALUE=DATE:20250309
DTEND;VALUE=DATE:20250310
DTSTAMP:20260423T164037
CREATED:20241210T141539Z
LAST-MODIFIED:20241210T141539Z
UID:3604-1741478400-1741564799@princechapel.org
SUMMARY:Church Growth and Evangelism Commission: Friends and Family Day
DESCRIPTION:Church Growth and Evangelism Commission: Friends and Family Day \nWe’re looking for members interested in growing our church. Please see Evangelist Kim Howard.
URL:https://princechapel.org/calendar/church-growth-and-evangelism-commission-friends-and-family-day/
END:VEVENT
BEGIN:VEVENT
DTSTART;TZID=UTC:20250305T183000
DTEND;TZID=UTC:20250305T193000
DTSTAMP:20260423T164037
CREATED:20250303T024826Z
LAST-MODIFIED:20250303T024854Z
UID:3908-1741199400-1741203000@princechapel.org
SUMMARY:Ash Wednesday Service
DESCRIPTION:Ash Wednesday Service
URL:https://princechapel.org/calendar/ash-wednesday-service/
END:VEVENT
BEGIN:VEVENT
DTSTART;TZID=UTC:20250226T183000
DTEND;TZID=UTC:20250226T193000
DTSTAMP:20260423T164037
CREATED:20241218T135144Z
LAST-MODIFIED:20241218T135144Z
UID:3656-1740594600-1740598200@princechapel.org
SUMMARY:PRAYER & BIBLE STUDY
DESCRIPTION:PRAYER & BIBLE STUDY • Wednesdays • 6:30p – 7:30p • ONLINE VIA ZOOM
URL:https://princechapel.org/calendar/prayer-bible-study-15/
END:VEVENT
BEGIN:VEVENT
DTSTART;VALUE=DATE:20250225
DTEND;VALUE=DATE:20250226
DTSTAMP:20260423T164037
CREATED:20250202T180003Z
LAST-MODIFIED:20250202T180003Z
UID:3750-1740441600-1740527999@princechapel.org
SUMMARY:​Right to Read Forum- NAACP Education Committee
DESCRIPTION:​Right to Read Forum- NAACP Education \nCommittee
URL:https://princechapel.org/calendar/right-to-read-forum-naacp-education-committee/
END:VEVENT
BEGIN:VEVENT
DTSTART;TZID=UTC:20250223T100000
DTEND;TZID=UTC:20250223T113000
DTSTAMP:20260423T164037
CREATED:20241218T134844Z
LAST-MODIFIED:20241218T134844Z
UID:3648-1740304800-1740310200@princechapel.org
SUMMARY:SUNDAY WORSHIP
DESCRIPTION:SUNDAY WORSHIP  10:00 am
URL:https://princechapel.org/calendar/sunday-worship-15/
END:VEVENT
BEGIN:VEVENT
DTSTART;TZID=UTC:20250222T180000
DTEND;TZID=UTC:20250222T193000
DTSTAMP:20260423T164037
CREATED:20250116T153116Z
LAST-MODIFIED:20250116T153116Z
UID:3719-1740247200-1740252600@princechapel.org
SUMMARY:IMA Service for Dr. Holt
DESCRIPTION:We are hosting the IMA Service for Dr. Holt who is stepping down as president.
URL:https://princechapel.org/calendar/ima-service-for-dr-holt/
END:VEVENT
BEGIN:VEVENT
DTSTART;VALUE=DATE:20250222
DTEND;VALUE=DATE:20250223
DTSTAMP:20260423T164037
CREATED:20250108T111349Z
LAST-MODIFIED:20250202T175303Z
UID:3678-1740182400-1740268799@princechapel.org
SUMMARY:Dispose-a-Med at Prince Chapel
DESCRIPTION:Dispose-A-Med at Prince Chapel
URL:https://princechapel.org/calendar/community-shred-a-thon-at-prince-chapel/
END:VEVENT
BEGIN:VEVENT
DTSTART;VALUE=DATE:20250222
DTEND;VALUE=DATE:20250223
DTSTAMP:20260423T164037
CREATED:20241210T141301Z
LAST-MODIFIED:20241210T141301Z
UID:3602-1740182400-1740268799@princechapel.org
SUMMARY:Church Growth and Evangelism Commission: Evangelism Training for members
DESCRIPTION:Church Growth and Evangelism Commission: Evangelism Training for members \nWe’re looking for members interested in growing our church. Please see Evangelist Kim Howard.
URL:https://princechapel.org/calendar/church-growth-and-evangelism-commission-evangelism-training-for-members/
END:VEVENT
BEGIN:VEVENT
DTSTART;TZID=UTC:20250219T183000
DTEND;TZID=UTC:20250219T193000
DTSTAMP:20260423T164037
CREATED:20241218T135107Z
LAST-MODIFIED:20241218T135107Z
UID:3654-1739989800-1739993400@princechapel.org
SUMMARY:PRAYER & BIBLE STUDY
DESCRIPTION:PRAYER & BIBLE STUDY • Wednesdays • 6:30p – 7:30p • ONLINE VIA ZOOM
URL:https://princechapel.org/calendar/prayer-bible-study-14/
END:VEVENT
BEGIN:VEVENT
DTSTART;TZID=UTC:20250216T100000
DTEND;TZID=UTC:20250216T113000
DTSTAMP:20260423T164037
CREATED:20241218T134808Z
LAST-MODIFIED:20241218T134808Z
UID:3646-1739700000-1739705400@princechapel.org
SUMMARY:SUNDAY WORSHIP
DESCRIPTION:SUNDAY WORSHIP  10:00 am
URL:https://princechapel.org/calendar/sunday-worship-14/
END:VEVENT
BEGIN:VEVENT
DTSTART;TZID=UTC:20250212T183000
DTEND;TZID=UTC:20250212T193000
DTSTAMP:20260423T164037
CREATED:20241218T135032Z
LAST-MODIFIED:20241218T135032Z
UID:3652-1739385000-1739388600@princechapel.org
SUMMARY:PRAYER & BIBLE STUDY
DESCRIPTION:PRAYER & BIBLE STUDY • Wednesdays • 6:30p – 7:30p • ONLINE VIA ZOOM
URL:https://princechapel.org/calendar/prayer-bible-study-13/
END:VEVENT
BEGIN:VEVENT
DTSTART;TZID=UTC:20250209T100000
DTEND;TZID=UTC:20250209T113000
DTSTAMP:20260423T164037
CREATED:20241218T134726Z
LAST-MODIFIED:20241218T134726Z
UID:3644-1739095200-1739100600@princechapel.org
SUMMARY:SUNDAY WORSHIP
DESCRIPTION:SUNDAY WORSHIP  10:00 am
URL:https://princechapel.org/calendar/sunday-worship-13/
END:VEVENT
BEGIN:VEVENT
DTSTART;VALUE=DATE:20250209
DTEND;VALUE=DATE:20250210
DTSTAMP:20260423T164037
CREATED:20250204T012623Z
LAST-MODIFIED:20250204T012623Z
UID:3775-1739059200-1739145599@princechapel.org
SUMMARY:WMS Valentine Basket Fundraiser
DESCRIPTION:WMS Valentine Basket Fundraiser \nBasket fundraising supporters can purchase tickets using our \nusing our Cash APP QCR CODE. (Must be 18+ to purchase tickets)  \nTicket costs are $5.00 each. Purchase two or more tickets for your best chances of winning one of three baskets.  \nInstructions for using the QCR Code:  \n\nScan the QCR Code with your smartphone\n\n\nEnter the app and chose how many tickets you wish to\n\nPurchase @ $5.00 dollars each. \n\nPlease put your first and last name\, telephone in the QRC code area once it’s loaded into your smart phone. We need this information to reach you in the event you win one of the three baskets. \n\n\nYour name and contact information will be placed in a basket for the drawing\, which will be held on Sunday\, February 9\, 2025\, so winners can have their basket on Valentines Day.\n\n\nFor any questions please contact WMS President Yolanda Parker Rizzoli @ either email ypark1@yahoo.com\, or sent a text or call to 520-808-1413. If you want to pay cash for any tickets\, please see WMS President Yolanda Parker Rizzoli.\n\n\nBackup person to reach is Lucy WMS Secretary\, Sister Angela Thomatis\, please contact her at email only angelathomatis@gmail.com\n\nThank you for supporting the Lucy Williams WMS Valentine Basket Fundraiser.
URL:https://princechapel.org/calendar/wms-valentine-basket-fundraiser/
END:VEVENT
BEGIN:VEVENT
DTSTART;VALUE=DATE:20250209
DTEND;VALUE=DATE:20250210
DTSTAMP:20260423T164037
CREATED:20250202T175813Z
LAST-MODIFIED:20250202T175813Z
UID:3748-1739059200-1739145599@princechapel.org
SUMMARY:​Lucy Williams WMS Valentine Basket Fundraiser
DESCRIPTION:​Lucy Williams WMS Valentine Basket Fundraiser
URL:https://princechapel.org/calendar/lucy-williams-wms-valentine-basket-fundraiser/
END:VEVENT
BEGIN:VEVENT
DTSTART;TZID=UTC:20250205T183000
DTEND;TZID=UTC:20250205T193000
DTSTAMP:20260423T164037
CREATED:20241218T134958Z
LAST-MODIFIED:20241218T134958Z
UID:3650-1738780200-1738783800@princechapel.org
SUMMARY:PRAYER & BIBLE STUDY
DESCRIPTION:PRAYER & BIBLE STUDY • Wednesdays • 6:30p – 7:30p • ONLINE VIA ZOOM
URL:https://princechapel.org/calendar/prayer-bible-study-12/
END:VEVENT
BEGIN:VEVENT
DTSTART;TZID=UTC:20250202T103000
DTEND;TZID=UTC:20250202T113000
DTSTAMP:20260423T164037
CREATED:20241218T134653Z
LAST-MODIFIED:20241218T134653Z
UID:3642-1738492200-1738495800@princechapel.org
SUMMARY:SUNDAY WORSHIP
DESCRIPTION:SUNDAY WORSHIP  10:00 am
URL:https://princechapel.org/calendar/sunday-worship-12/
END:VEVENT
BEGIN:VEVENT
DTSTART;TZID=UTC:20250129T183000
DTEND;TZID=UTC:20250129T193000
DTSTAMP:20260423T164037
CREATED:20241218T134046Z
LAST-MODIFIED:20241218T134046Z
UID:3632-1738175400-1738179000@princechapel.org
SUMMARY:PRAYER & BIBLE STUDY
DESCRIPTION:PRAYER & BIBLE STUDY • Wednesdays • 6:30p – 7:30p • ONLINE VIA ZOOM
URL:https://princechapel.org/calendar/prayer-bible-study-11/
END:VEVENT
BEGIN:VEVENT
DTSTART;TZID=UTC:20250126T100000
DTEND;TZID=UTC:20250126T113000
DTSTAMP:20260423T164037
CREATED:20241218T134520Z
LAST-MODIFIED:20241218T134520Z
UID:3640-1737885600-1737891000@princechapel.org
SUMMARY:SUNDAY WORSHIP
DESCRIPTION:SUNDAY WORSHIP  10:00 am
URL:https://princechapel.org/calendar/sunday-worship-11/
END:VEVENT
BEGIN:VEVENT
DTSTART;VALUE=DATE:20250126
DTEND;VALUE=DATE:20250127
DTSTAMP:20260423T164037
CREATED:20250122T151458Z
LAST-MODIFIED:20250122T151458Z
UID:3736-1737849600-1737935999@princechapel.org
SUMMARY:Class Leaders Day
DESCRIPTION:Class Leaders Day
URL:https://princechapel.org/calendar/class-leaders-day/
END:VEVENT
BEGIN:VEVENT
DTSTART;VALUE=DATE:20250124
DTEND;VALUE=DATE:20250125
DTSTAMP:20260423T164037
CREATED:20250122T151056Z
LAST-MODIFIED:20250122T151056Z
UID:3731-1737676800-1737763199@princechapel.org
SUMMARY:Prince Chapel  Host for luncheon
DESCRIPTION:Prince Chapel  Host for luncheon
URL:https://princechapel.org/calendar/prince-chapel-host-for-luncheon/
END:VEVENT
BEGIN:VEVENT
DTSTART;TZID=UTC:20250122T183000
DTEND;TZID=UTC:20250122T193000
DTSTAMP:20260423T164037
CREATED:20241218T134008Z
LAST-MODIFIED:20241218T134008Z
UID:3630-1737570600-1737574200@princechapel.org
SUMMARY:PRAYER & BIBLE STUDY
DESCRIPTION:PRAYER & BIBLE STUDY • Wednesdays • 6:30p – 7:30p • ONLINE VIA ZOOM
URL:https://princechapel.org/calendar/prayer-bible-study-10/
END:VEVENT
BEGIN:VEVENT
DTSTART;VALUE=DATE:20250121
DTEND;VALUE=DATE:20250125
DTSTAMP:20260423T164037
CREATED:20250122T151301Z
LAST-MODIFIED:20250122T151301Z
UID:3733-1737417600-1737763199@princechapel.org
SUMMARY:WMS Executive board- California
DESCRIPTION:WMS Executive board- California
URL:https://princechapel.org/calendar/wms-executive-board-california/
END:VEVENT
BEGIN:VEVENT
DTSTART;TZID=UTC:20250120T103000
DTEND;TZID=UTC:20250120T150000
DTSTAMP:20260423T164037
CREATED:20241218T133423Z
LAST-MODIFIED:20241218T133423Z
UID:3621-1737369000-1737385200@princechapel.org
SUMMARY:Tucson MLK CELEBRATION 2025
DESCRIPTION:Tucson MLK CELEBRATION 2025 • January 20th\, 2025 • 10:00a • 3:00p
URL:https://princechapel.org/calendar/tucson-mlk-celebration-2025/
END:VEVENT
BEGIN:VEVENT
DTSTART;VALUE=DATE:20250120
DTEND;VALUE=DATE:20250121
DTSTAMP:20260423T164037
CREATED:20250108T111227Z
LAST-MODIFIED:20250108T111227Z
UID:3674-1737331200-1737417599@princechapel.org
SUMMARY:MLK Day Booth
DESCRIPTION:MLK Day Booth
URL:https://princechapel.org/calendar/mlk-day-booth/
END:VEVENT
BEGIN:VEVENT
DTSTART;TZID=UTC:20250119T100000
DTEND;TZID=UTC:20250119T113000
DTSTAMP:20260423T164037
CREATED:20241218T134421Z
LAST-MODIFIED:20241218T134421Z
UID:3638-1737280800-1737286200@princechapel.org
SUMMARY:SUNDAY WORSHIP
DESCRIPTION:SUNDAY WORSHIP  10:00 am
URL:https://princechapel.org/calendar/sunday-worship-10/
END:VEVENT
BEGIN:VEVENT
DTSTART;TZID=UTC:20250115T183000
DTEND;TZID=UTC:20250115T193000
DTSTAMP:20260423T164037
CREATED:20241218T133904Z
LAST-MODIFIED:20241218T133904Z
UID:3627-1736965800-1736969400@princechapel.org
SUMMARY:PRAYER & BIBLE STUDY
DESCRIPTION:PRAYER & BIBLE STUDY • Wednesdays • 6:30p – 7:30p • ONLINE VIA ZOOM
URL:https://princechapel.org/calendar/prayer-bible-study-9/
END:VEVENT
BEGIN:VEVENT
DTSTART;TZID=UTC:20250112T100000
DTEND;TZID=UTC:20250112T113000
DTSTAMP:20260423T164037
CREATED:20241218T134350Z
LAST-MODIFIED:20241218T134350Z
UID:3636-1736676000-1736681400@princechapel.org
SUMMARY:SUNDAY WORSHIP
DESCRIPTION:SUNDAY WORSHIP  10:00 am
URL:https://princechapel.org/calendar/sunday-worship-9/
END:VEVENT
BEGIN:VEVENT
DTSTART;VALUE=DATE:20250111
DTEND;VALUE=DATE:20250112
DTSTAMP:20260423T164037
CREATED:20250108T111014Z
LAST-MODIFIED:20250108T111014Z
UID:3672-1736553600-1736639999@princechapel.org
SUMMARY:Evangelism Leadership Training
DESCRIPTION:Evangelism Leadership Training
URL:https://princechapel.org/calendar/evangelism-leadership-training/
END:VEVENT
BEGIN:VEVENT
DTSTART;VALUE=DATE:20250111
DTEND;VALUE=DATE:20250112
DTSTAMP:20260423T164037
CREATED:20241210T141034Z
LAST-MODIFIED:20241210T141034Z
UID:3600-1736553600-1736639999@princechapel.org
SUMMARY:Church Growth and Evangelism Commission: Leadership training for Evangelism
DESCRIPTION:Church Growth and Evangelism Commission: Leadership training for Evangelism \nWe’re looking for members interested in growing our church. Please see Evangelist Kim Howard.
URL:https://princechapel.org/calendar/church-growth-and-evangelism-commission-leadership-training-for-evangelism/
END:VEVENT
END:VCALENDAR