BEGIN:VCALENDAR
VERSION:2.0
PRODID:-//Prince Chapel AME Church - ECPv6.15.10//NONSGML v1.0//EN
CALSCALE:GREGORIAN
METHOD:PUBLISH
X-WR-CALNAME:Prince Chapel AME Church
X-ORIGINAL-URL:https://princechapel.org
X-WR-CALDESC:Events for Prince Chapel AME Church
REFRESH-INTERVAL;VALUE=DURATION:PT1H
X-Robots-Tag:noindex
X-PUBLISHED-TTL:PT1H
BEGIN:VTIMEZONE
TZID:UTC
BEGIN:STANDARD
TZOFFSETFROM:+0000
TZOFFSETTO:+0000
TZNAME:UTC
DTSTART:20210101T000000
END:STANDARD
END:VTIMEZONE
BEGIN:VEVENT
DTSTART;VALUE=DATE:20220914
DTEND;VALUE=DATE:20220919
DTSTAMP:20260425T061200
CREATED:20211119T154153Z
LAST-MODIFIED:20211119T155722Z
UID:1679-1663113600-1663545599@princechapel.org
SUMMARY:AFRICAN METHODIST EPISCOPAL CHURCH Fifth Episcopal District 2021 – 2022 Conference Schedule
DESCRIPTION:(All meetings to be held in a Hybrid format – Virtual and In-person) \n15th Midwest Annual Conference\nHost:  St John- Omaha\, NE \nNOTE:  Wednesday:   Available for Component Meetings\nThursday:  The Opening Day for each of the SIX Annual Conferences.  The Organization will take place in the morning.  The Annual Sermon will be in the evening.\nSaturday midmorning:  The Closing/Commissioning Service will be held for the PACIFIC NORTHWEST; DESERT MOUNTAIN; AND MISSOURI ANNUAL CONFERENCES.\nSunday afternoon:  The Closing/Commissioning Service will be held for the CALIFORNIA; MIDWEST; AND SOUTHERN CALIFORNIA CONFERENCES \nThe complete “Daily Agenda” is forthcoming.
URL:https://princechapel.org/calendar/african-methodist-episcopal-church-fifth-episcopal-district-2021-2022-conference-schedule-4/
LOCATION:Hilton Hotel\, St Louis Airport
END:VEVENT
BEGIN:VEVENT
DTSTART;VALUE=DATE:20220818
DTEND;VALUE=DATE:20220819
DTSTAMP:20260425T061200
CREATED:20220424T171303Z
LAST-MODIFIED:20220424T171303Z
UID:2141-1660780800-1660867199@princechapel.org
SUMMARY:Women’s Missionary meets at 6:30 pm.
DESCRIPTION:
URL:https://princechapel.org/calendar/womens-missionary-meets-at-630-pm-4/
END:VEVENT
BEGIN:VEVENT
DTSTART;VALUE=DATE:20220817
DTEND;VALUE=DATE:20220821
DTSTAMP:20260425T061200
CREATED:20220424T170211Z
LAST-MODIFIED:20220424T170211Z
UID:2131-1660694400-1661039999@princechapel.org
SUMMARY:136th Desert Mountain Annual Conference\, Phoenix\, AZ
DESCRIPTION:
URL:https://princechapel.org/calendar/136th-desert-mountain-annual-conference-phoenix-az/
END:VEVENT
BEGIN:VEVENT
DTSTART;VALUE=DATE:20220817
DTEND;VALUE=DATE:20220820
DTSTAMP:20260425T061200
CREATED:20211202T183900Z
LAST-MODIFIED:20211202T184351Z
UID:1804-1660694400-1660953599@princechapel.org
SUMMARY:Annual Conference (host: Greater Bethel)
DESCRIPTION:
URL:https://princechapel.org/calendar/annual-conference-host-greater-bethel/
END:VEVENT
BEGIN:VEVENT
DTSTART;VALUE=DATE:20220817
DTEND;VALUE=DATE:20220821
DTSTAMP:20260425T061200
CREATED:20211119T153852Z
LAST-MODIFIED:20211119T155625Z
UID:1676-1660694400-1661039999@princechapel.org
SUMMARY:AFRICAN METHODIST EPISCOPAL CHURCH Fifth Episcopal District 2021 – 2022 Conference Schedule
DESCRIPTION:(All meetings to be held in a Hybrid format – Virtual and In-person) \n136th Desert Mountain Annual Conference\nHosts: Greater Bethel; Mt Moriah; Prince Chapel \nNOTE:  Wednesday:   Available for Component Meetings\nThursday:  The Opening Day for each of the SIX Annual Conferences.  The Organization will take place in the morning.  The Annual Sermon will be in the evening.\nSaturday midmorning:  The Closing/Commissioning Service will be held for the PACIFIC NORTHWEST; DESERT MOUNTAIN; AND MISSOURI ANNUAL CONFERENCES.\nSunday afternoon:  The Closing/Commissioning Service will be held for the CALIFORNIA; MIDWEST; AND SOUTHERN CALIFORNIA CONFERENCES \nThe complete “Daily Agenda” is forthcoming.
URL:https://princechapel.org/calendar/african-methodist-episcopal-church-fifth-episcopal-district-2021-2022-conference-schedule-3/
LOCATION:TBD
END:VEVENT
BEGIN:VEVENT
DTSTART;VALUE=DATE:20220803
DTEND;VALUE=DATE:20220807
DTSTAMP:20260425T061200
CREATED:20211119T153358Z
LAST-MODIFIED:20211119T155508Z
UID:1673-1659484800-1659830399@princechapel.org
SUMMARY:AFRICAN METHODIST EPISCOPAL CHURCH Fifth Episcopal District 2021 – 2022 Conference Schedule
DESCRIPTION:(All meetings to be held in a Hybrid format – Virtual and In-person) \n131st Pacific Northwest  Annual Conference\nHosts:  Walker Chapel; Primm Tabernacle; Ebenezer-Bremerton \nNOTE:  Wednesday:   Available for Component Meetings\nThursday:  The Opening Day for each of the SIX Annual Conferences.  The Organization will take place in the morning.  The Annual Sermon will be in the evening.\nSaturday midmorning:  The Closing/Commissioning Service will be held for the PACIFIC NORTHWEST; DESERT MOUNTAIN; AND MISSOURI ANNUAL CONFERENCES.\nSunday afternoon:  The Closing/Commissioning Service will be held for the CALIFORNIA; MIDWEST; AND SOUTHERN CALIFORNIA CONFERENCES \nThe complete “Daily Agenda” is forthcoming.
URL:https://princechapel.org/calendar/african-methodist-episcopal-church-fifth-episcopal-district-2021-2022-conference-schedule-2/
LOCATION:Doubletree Hotel\, Seattle\, WA
END:VEVENT
BEGIN:VEVENT
DTSTART;TZID=UTC:20220722T180000
DTEND;TZID=UTC:20220723T200000
DTSTAMP:20260425T061200
CREATED:20211202T183758Z
LAST-MODIFIED:20211202T184417Z
UID:1802-1658512800-1658606400@princechapel.org
SUMMARY:Murph Community Revival
DESCRIPTION:
URL:https://princechapel.org/calendar/murph-community-revival/
END:VEVENT
BEGIN:VEVENT
DTSTART;VALUE=DATE:20220721
DTEND;VALUE=DATE:20220722
DTSTAMP:20260425T061200
CREATED:20220424T171236Z
LAST-MODIFIED:20220424T171236Z
UID:2139-1658361600-1658447999@princechapel.org
SUMMARY:Women’s Missionary meets at 6:30 pm.
DESCRIPTION:
URL:https://princechapel.org/calendar/womens-missionary-meets-at-630-pm-3/
END:VEVENT
BEGIN:VEVENT
DTSTART;VALUE=DATE:20220626
DTEND;VALUE=DATE:20220627
DTSTAMP:20260425T061200
CREATED:20211202T183612Z
LAST-MODIFIED:20211202T184437Z
UID:1800-1656201600-1656287999@princechapel.org
SUMMARY:Holy Trinity Men's Annual Day • 3:00 PM
DESCRIPTION:
URL:https://princechapel.org/calendar/holy-trinity-mens-annual-day-300-pm/
END:VEVENT
BEGIN:VEVENT
DTSTART;VALUE=DATE:20220619
DTEND;VALUE=DATE:20220620
DTSTAMP:20260425T061200
CREATED:20211202T183432Z
LAST-MODIFIED:20220424T170726Z
UID:1798-1655596800-1655683199@princechapel.org
SUMMARY:Father’s Day
DESCRIPTION:
URL:https://princechapel.org/calendar/fathers-day/
END:VEVENT
BEGIN:VEVENT
DTSTART;VALUE=DATE:20220616
DTEND;VALUE=DATE:20220617
DTSTAMP:20260425T061200
CREATED:20220424T171208Z
LAST-MODIFIED:20220424T171208Z
UID:2137-1655337600-1655423999@princechapel.org
SUMMARY:Women’s Missionary meets at 6:30 pm.
DESCRIPTION:
URL:https://princechapel.org/calendar/womens-missionary-meets-at-630-pm-2/
END:VEVENT
BEGIN:VEVENT
DTSTART;VALUE=DATE:20220611
DTEND;VALUE=DATE:20220612
DTSTAMP:20260425T061200
CREATED:20211202T183342Z
LAST-MODIFIED:20211202T184459Z
UID:1796-1654905600-1654991999@princechapel.org
SUMMARY:Harbert Chapel Anniversary
DESCRIPTION:
URL:https://princechapel.org/calendar/harbert-chapel-anniversary/
END:VEVENT
BEGIN:VEVENT
DTSTART;TZID=UTC:20220605T150000
DTEND;TZID=UTC:20220605T170000
DTSTAMP:20260425T061200
CREATED:20211202T183300Z
LAST-MODIFIED:20211202T184510Z
UID:1794-1654441200-1654448400@princechapel.org
SUMMARY:Annual Pentecost Service (The Word Of God)
DESCRIPTION:
URL:https://princechapel.org/calendar/annual-pentecost-service-the-word-of-god/
END:VEVENT
BEGIN:VEVENT
DTSTART;VALUE=DATE:20220519
DTEND;VALUE=DATE:20220520
DTSTAMP:20260425T061200
CREATED:20220424T171113Z
LAST-MODIFIED:20220424T171528Z
UID:2135-1652918400-1653004799@princechapel.org
SUMMARY:Women’s Missionary meets at 6:30 pm.
DESCRIPTION:
URL:https://princechapel.org/calendar/womens-missionary-meets-at-630-pm/
END:VEVENT
BEGIN:VEVENT
DTSTART;VALUE=DATE:20220515
DTEND;VALUE=DATE:20220516
DTSTAMP:20260425T061200
CREATED:20220424T170109Z
LAST-MODIFIED:20220424T170109Z
UID:2129-1652572800-1652659199@princechapel.org
SUMMARY:Church Conference
DESCRIPTION:
URL:https://princechapel.org/calendar/church-conference/
END:VEVENT
BEGIN:VEVENT
DTSTART;VALUE=DATE:20220515
DTEND;VALUE=DATE:20220516
DTSTAMP:20260425T061200
CREATED:20211202T183122Z
LAST-MODIFIED:20211202T184522Z
UID:1792-1652572800-1652659199@princechapel.org
SUMMARY:Holy Trinity Women and WMS Celebration
DESCRIPTION:
URL:https://princechapel.org/calendar/holy-trinity-women-and-wms-celebration/
END:VEVENT
BEGIN:VEVENT
DTSTART;VALUE=DATE:20220513
DTEND;VALUE=DATE:20220514
DTSTAMP:20260425T061200
CREATED:20220424T165812Z
LAST-MODIFIED:20220424T165812Z
UID:2127-1652400000-1652486399@princechapel.org
SUMMARY:Pastor Richard’s Birthday
DESCRIPTION:
URL:https://princechapel.org/calendar/pastor-richards-birthday/
END:VEVENT
BEGIN:VEVENT
DTSTART;VALUE=DATE:20220512
DTEND;VALUE=DATE:20220513
DTSTAMP:20260425T061200
CREATED:20220424T165704Z
LAST-MODIFIED:20220424T171617Z
UID:2125-1652313600-1652399999@princechapel.org
SUMMARY:Lay Organization Meeting at 6:30 pm
DESCRIPTION:
URL:https://princechapel.org/calendar/lay-organization-meeting-at-630-pm/
END:VEVENT
BEGIN:VEVENT
DTSTART;VALUE=DATE:20220508
DTEND;VALUE=DATE:20220509
DTSTAMP:20260425T061200
CREATED:20211202T183031Z
LAST-MODIFIED:20211202T184640Z
UID:1790-1651968000-1652054399@princechapel.org
SUMMARY:Mother’s Day
DESCRIPTION:
URL:https://princechapel.org/calendar/mothers-day/
END:VEVENT
BEGIN:VEVENT
DTSTART;VALUE=DATE:20220507
DTEND;VALUE=DATE:20220508
DTSTAMP:20260425T061200
CREATED:20211202T182954Z
LAST-MODIFIED:20211202T184631Z
UID:1788-1651881600-1651967999@princechapel.org
SUMMARY:Mt. Moriah: Annual Mothers Day Brunch
DESCRIPTION:
URL:https://princechapel.org/calendar/mt-moriah-annual-mothers-day-brunch/
END:VEVENT
BEGIN:VEVENT
DTSTART;VALUE=DATE:20220417
DTEND;VALUE=DATE:20220418
DTSTAMP:20260425T061200
CREATED:20211202T182804Z
LAST-MODIFIED:20211202T184621Z
UID:1786-1650153600-1650239999@princechapel.org
SUMMARY:Harbert Chapel: Family & Friends Day • Flagstaff\, AZ
DESCRIPTION:
URL:https://princechapel.org/calendar/harbert-chapel-family-friends-day-flagstaff-az/
END:VEVENT
BEGIN:VEVENT
DTSTART;VALUE=DATE:20220407
DTEND;VALUE=DATE:20220410
DTSTAMP:20260425T061200
CREATED:20211202T182559Z
LAST-MODIFIED:20211202T184610Z
UID:1784-1649289600-1649548799@princechapel.org
SUMMARY:District Conference – (host Murphs Community) Facility: Greater Bethel (Virtual / Hybrid)
DESCRIPTION:
URL:https://princechapel.org/calendar/district-conference-host-murphs-community-facility-greater-bethel-virtual-hybrid/
END:VEVENT
BEGIN:VEVENT
DTSTART;VALUE=DATE:20220327
DTEND;VALUE=DATE:20220328
DTSTAMP:20260425T061200
CREATED:20211202T181921Z
LAST-MODIFIED:20211202T181921Z
UID:1782-1648339200-1648425599@princechapel.org
SUMMARY:Murphs Community: Womens Day Celebration
DESCRIPTION:
URL:https://princechapel.org/calendar/murphs-community-womens-day-celebration/
END:VEVENT
BEGIN:VEVENT
DTSTART;VALUE=DATE:20220324
DTEND;VALUE=DATE:20220327
DTSTAMP:20260425T061200
CREATED:20211202T181802Z
LAST-MODIFIED:20211202T181802Z
UID:1779-1648080000-1648339199@princechapel.org
SUMMARY:AZ-NM District Conference
DESCRIPTION:
URL:https://princechapel.org/calendar/az-nm-district-conference/
LOCATION:Greater Bethel\, Phoenix\, AZ
END:VEVENT
BEGIN:VEVENT
DTSTART;VALUE=DATE:20220320
DTEND;VALUE=DATE:20220321
DTSTAMP:20260425T061200
CREATED:20211202T181522Z
LAST-MODIFIED:20211202T181522Z
UID:1776-1647734400-1647820799@princechapel.org
SUMMARY:Holy Trinity Usher Day/Lay Organization Celebration
DESCRIPTION:
URL:https://princechapel.org/calendar/holy-trinity-usher-day-lay-organization-celebration/
END:VEVENT
BEGIN:VEVENT
DTSTART;VALUE=DATE:20220302
DTEND;VALUE=DATE:20220304
DTSTAMP:20260425T061200
CREATED:20211119T152941Z
LAST-MODIFIED:20211119T155431Z
UID:1670-1646179200-1646351999@princechapel.org
SUMMARY:AFRICAN METHODIST EPISCOPAL CHURCH Fifth Episcopal District 2021 – 2022 Conference Schedule
DESCRIPTION:(All meetings to be held in a Hybrid format – Virtual and In-person) \nMidyear Conference\n($159.00/Night rate available February 28-March 3\, 2022) \nNOTE:  Wednesday:   Available for Component Meetings\nThursday:  The Opening Day for each of the SIX Annual Conferences.  The Organization will take place in the morning.  The Annual Sermon will be in the evening.\nSaturday midmorning:  The Closing/Commissioning Service will be held for the PACIFIC NORTHWEST; DESERT MOUNTAIN; AND MISSOURI ANNUAL CONFERENCES.\nSunday afternoon:  The Closing/Commissioning Service will be held for the CALIFORNIA; MIDWEST; AND SOUTHERN CALIFORNIA CONFERENCES \nThe complete “Daily Agenda” is forthcoming.
URL:https://princechapel.org/calendar/african-methodist-episcopal-church-fifth-episcopal-district-2021-2022-conference-schedule/
LOCATION:Hilton Hotel (LAX)\, Los Angeles\, CA
END:VEVENT
BEGIN:VEVENT
DTSTART;VALUE=DATE:20220219
DTEND;VALUE=DATE:20220220
DTSTAMP:20260425T061200
CREATED:20211202T181350Z
LAST-MODIFIED:20211202T181350Z
UID:1773-1645228800-1645315199@princechapel.org
SUMMARY:Holy Trinity Unity In The Community: “Black History Celebration”
DESCRIPTION:
URL:https://princechapel.org/calendar/holy-trinity-unity-in-the-community-black-history-celebration/
END:VEVENT
BEGIN:VEVENT
DTSTART;VALUE=DATE:20220213
DTEND;VALUE=DATE:20220214
DTSTAMP:20260425T061200
CREATED:20211202T181258Z
LAST-MODIFIED:20211202T181258Z
UID:1771-1644710400-1644796799@princechapel.org
SUMMARY:Mt. Moriah – Founder’s Day • Maricopa\, AZ\,
DESCRIPTION:
URL:https://princechapel.org/calendar/mt-moriah-founders-day-maricopa-az/
END:VEVENT
BEGIN:VEVENT
DTSTART;VALUE=DATE:20220122
DTEND;VALUE=DATE:20220123
DTSTAMP:20260425T061200
CREATED:20220110T050456Z
LAST-MODIFIED:20220110T050456Z
UID:1841-1642809600-1642895999@princechapel.org
SUMMARY:UNIVERSITY of ARIZONA Office of Diversity & Inclusion: MLK Celebration Week • Friday Diversity Symposium Day 2 - Open to UA Grad Students\, Staff\, and Faculty
DESCRIPTION:Friday Diversity Symposium Day 2 – Open to UA Grad Students\, Staff\, and Faculty \nSchedule at a Glance \n1) Breakfast \n2) Workshops \n3) Networking Luncheon \n4) Workshops
URL:https://princechapel.org/calendar/university-of-arizona-office-of-diversity-inclusion-mlk-celebration-week-friday-diversity-symposium-day-2-open-to-ua-grad-students-staff-and-faculty/
END:VEVENT
BEGIN:VEVENT
DTSTART;VALUE=DATE:20220122
DTEND;VALUE=DATE:20220123
DTSTAMP:20260425T061200
CREATED:20211202T180934Z
LAST-MODIFIED:20211202T180934Z
UID:1767-1642809600-1642895999@princechapel.org
SUMMARY:Mt.Moriah - WMS Prayer Breakfast
DESCRIPTION:
URL:https://princechapel.org/calendar/mt-moriah-wms-prayer-breakfast/
END:VEVENT
END:VCALENDAR