BEGIN:VCALENDAR
VERSION:2.0
PRODID:-//Prince Chapel AME Church - ECPv6.15.10//NONSGML v1.0//EN
CALSCALE:GREGORIAN
METHOD:PUBLISH
X-WR-CALNAME:Prince Chapel AME Church
X-ORIGINAL-URL:https://princechapel.org
X-WR-CALDESC:Events for Prince Chapel AME Church
REFRESH-INTERVAL;VALUE=DURATION:PT1H
X-Robots-Tag:noindex
X-PUBLISHED-TTL:PT1H
BEGIN:VTIMEZONE
TZID:America/Phoenix
BEGIN:STANDARD
TZOFFSETFROM:-0700
TZOFFSETTO:-0700
TZNAME:MST
DTSTART:20250101T000000
END:STANDARD
END:VTIMEZONE
BEGIN:VEVENT
DTSTART;VALUE=DATE:20260403
DTEND;VALUE=DATE:20260404
DTSTAMP:20260423T115753
CREATED:20260306T205415Z
LAST-MODIFIED:20260306T205415Z
UID:4224-1775174400-1775260799@princechapel.org
SUMMARY:Good Friday Service: The 7 Last Words of Christ
DESCRIPTION:Good Friday Service: The 7 Last Words of Christ\nApril 3rd @ 12p
URL:https://princechapel.org/calendar/good-friday-service-the-7-last-words-of-christ/
END:VEVENT
BEGIN:VEVENT
DTSTART;TZID=America/Phoenix:20260411T143000
DTEND;TZID=America/Phoenix:20260411T160000
DTSTAMP:20260423T115753
CREATED:20260403T061858Z
LAST-MODIFIED:20260403T061858Z
UID:4251-1775917800-1775923200@princechapel.org
SUMMARY:A Brief History of the AME Church
DESCRIPTION:A Brief History of the AME Church\nSaturday\, April 11th @ 2:30p
URL:https://princechapel.org/calendar/a-brief-history-of-the-ame-church/
END:VEVENT
BEGIN:VEVENT
DTSTART;TZID=America/Phoenix:20260517T150000
DTEND;TZID=America/Phoenix:20260517T170000
DTSTAMP:20260423T115753
CREATED:20260306T071745Z
LAST-MODIFIED:20260306T071745Z
UID:4216-1779030000-1779037200@princechapel.org
SUMMARY:Women's Day Program
DESCRIPTION:Women’s Day Program
URL:https://princechapel.org/calendar/womens-day-program/
END:VEVENT
END:VCALENDAR