BEGIN:VCALENDAR
VERSION:2.0
PRODID:-//Prince Chapel AME Church - ECPv6.15.10//NONSGML v1.0//EN
CALSCALE:GREGORIAN
METHOD:PUBLISH
X-WR-CALNAME:Prince Chapel AME Church
X-ORIGINAL-URL:https://princechapel.org
X-WR-CALDESC:Events for Prince Chapel AME Church
REFRESH-INTERVAL;VALUE=DURATION:PT1H
X-Robots-Tag:noindex
X-PUBLISHED-TTL:PT1H
BEGIN:VTIMEZONE
TZID:America/Phoenix
BEGIN:STANDARD
TZOFFSETFROM:-0700
TZOFFSETTO:-0700
TZNAME:MST
DTSTART:20250101T000000
END:STANDARD
END:VTIMEZONE
BEGIN:VTIMEZONE
TZID:UTC
BEGIN:STANDARD
TZOFFSETFROM:+0000
TZOFFSETTO:+0000
TZNAME:UTC
DTSTART:20240101T000000
END:STANDARD
END:VTIMEZONE
BEGIN:VEVENT
DTSTART;TZID=America/Phoenix:20260228T080000
DTEND;TZID=America/Phoenix:20260228T120000
DTSTAMP:20260423T120147
CREATED:20260203T202622Z
LAST-MODIFIED:20260203T203139Z
UID:4158-1772265600-1772280000@princechapel.org
SUMMARY:DISPOSE-A-MED
DESCRIPTION:Dispose-A-Med (FREE EVENT)\nSaturday\, February 28th • 8a-12p
URL:https://princechapel.org/calendar/dispose-a-med/
END:VEVENT
BEGIN:VEVENT
DTSTART;VALUE=DATE:20260222
DTEND;VALUE=DATE:20260223
DTSTAMP:20260423T120147
CREATED:20260209T084158Z
LAST-MODIFIED:20260209T084158Z
UID:4173-1771718400-1771804799@princechapel.org
SUMMARY:ANNUAL MEN'S DAY
DESCRIPTION:Prince Chapel AME Church:\nAnnual Men’s Day @ 10 am
URL:https://princechapel.org/calendar/annual-mens-day/
END:VEVENT
BEGIN:VEVENT
DTSTART;TZID=America/Phoenix:20260221T080000
DTEND;TZID=America/Phoenix:20260221T110000
DTSTAMP:20260423T120147
CREATED:20260203T202843Z
LAST-MODIFIED:20260203T203021Z
UID:4160-1771660800-1771671600@princechapel.org
SUMMARY:SHRED-A-THON
DESCRIPTION:Shred-A-Thon\nSaturday\, February 21st • 8a-11a
URL:https://princechapel.org/calendar/shred-a-thon/
END:VEVENT
BEGIN:VEVENT
DTSTART;VALUE=DATE:20260215
DTEND;VALUE=DATE:20260216
DTSTAMP:20260423T120147
CREATED:20260213T200626Z
LAST-MODIFIED:20260213T200626Z
UID:4185-1771113600-1771199999@princechapel.org
SUMMARY:LAY ORGANIZATION
DESCRIPTION:Lay Organization\nFELLOWSHIP\nJoin Us After Sunday Service
URL:https://princechapel.org/calendar/lay-organization/
END:VEVENT
BEGIN:VEVENT
DTSTART;VALUE=DATE:20251213
DTEND;VALUE=DATE:20251214
DTSTAMP:20260423T120147
CREATED:20250202T181201Z
LAST-MODIFIED:20250202T181201Z
UID:3761-1765584000-1765670399@princechapel.org
SUMMARY:​Parade  of Lights Possible WMS/Lay fundraiser
DESCRIPTION:​Parade  of Lights Possible WMS/Lay fundraiser
URL:https://princechapel.org/calendar/parade-of-lights-possible-wms-lay-fundraiser/
END:VEVENT
BEGIN:VEVENT
DTSTART;TZID=UTC:20251211T183000
DTEND;TZID=UTC:20251211T193000
DTSTAMP:20260423T120147
CREATED:20250218T133252Z
LAST-MODIFIED:20250218T133252Z
UID:3873-1765477800-1765481400@princechapel.org
SUMMARY:Lay Organization Meeting
DESCRIPTION:Lay Organization Meeting \nClick “Zoom Link” or copy and paste link address into your browser window.\nZoom Link\n\nhttps://us02web.zoom.us/j/85287360777?pwd=MFdlZGFSQ2MxLzNiZlJFdHpEK2Z0UT09
URL:https://princechapel.org/calendar/lay-organization-meeting-14/
END:VEVENT
BEGIN:VEVENT
DTSTART;TZID=UTC:20251113T183000
DTEND;TZID=UTC:20251113T193000
DTSTAMP:20260423T120147
CREATED:20250218T133156Z
LAST-MODIFIED:20250218T133156Z
UID:3871-1763058600-1763062200@princechapel.org
SUMMARY:Lay Organization Meeting
DESCRIPTION:Lay Organization Meeting \nClick “Zoom Link” or copy and paste link address into your browser window.\nZoom Link\n\nhttps://us02web.zoom.us/j/85287360777?pwd=MFdlZGFSQ2MxLzNiZlJFdHpEK2Z0UT09
URL:https://princechapel.org/calendar/lay-organization-meeting-13/
END:VEVENT
BEGIN:VEVENT
DTSTART;TZID=UTC:20251009T183000
DTEND;TZID=UTC:20251009T193000
DTSTAMP:20260423T120147
CREATED:20250218T133054Z
LAST-MODIFIED:20250218T133054Z
UID:3869-1760034600-1760038200@princechapel.org
SUMMARY:Lay Organization Meeting
DESCRIPTION:Lay Organization Meeting \nClick “Zoom Link” or copy and paste link address into your browser window.\nZoom Link\n\nhttps://us02web.zoom.us/j/85287360777?pwd=MFdlZGFSQ2MxLzNiZlJFdHpEK2Z0UT09
URL:https://princechapel.org/calendar/lay-organization-meeting-12/
END:VEVENT
BEGIN:VEVENT
DTSTART;TZID=UTC:20250911T183000
DTEND;TZID=UTC:20250911T193000
DTSTAMP:20260423T120147
CREATED:20250218T132956Z
LAST-MODIFIED:20250218T132956Z
UID:3867-1757615400-1757619000@princechapel.org
SUMMARY:Lay Organization Meeting
DESCRIPTION:Lay Organization Meeting \nClick “Zoom Link” or copy and paste link address into your browser window.\nZoom Link\n\nhttps://us02web.zoom.us/j/85287360777?pwd=MFdlZGFSQ2MxLzNiZlJFdHpEK2Z0UT09
URL:https://princechapel.org/calendar/lay-organization-meeting-11/
END:VEVENT
BEGIN:VEVENT
DTSTART;VALUE=DATE:20250831
DTEND;VALUE=DATE:20250901
DTSTAMP:20260423T120147
CREATED:20250202T181522Z
LAST-MODIFIED:20250202T181522Z
UID:3765-1756598400-1756684799@princechapel.org
SUMMARY:WMS Fifth Sunday
DESCRIPTION:WMS Fifth Sunday
URL:https://princechapel.org/calendar/wms-fifth-sunday-2/
END:VEVENT
BEGIN:VEVENT
DTSTART;VALUE=DATE:20250829
DTEND;VALUE=DATE:20250830
DTSTAMP:20260423T120147
CREATED:20250812T134347Z
LAST-MODIFIED:20250812T134347Z
UID:4044-1756425600-1756511999@princechapel.org
SUMMARY:Primavera Men's Dinner
DESCRIPTION:August 29\, 2025\nPrimavera Men’s Dinner
URL:https://princechapel.org/calendar/primavera-mens-dinner/
END:VEVENT
BEGIN:VEVENT
DTSTART;VALUE=DATE:20250825
DTEND;VALUE=DATE:20250830
DTSTAMP:20260423T120147
CREATED:20250202T180941Z
LAST-MODIFIED:20250202T180941Z
UID:3758-1756080000-1756511999@princechapel.org
SUMMARY:Annual Conference\, Colorado
DESCRIPTION:Annual Conference\, Colorado\nAug 25th — 29th
URL:https://princechapel.org/calendar/annual-conference-colorado/
END:VEVENT
BEGIN:VEVENT
DTSTART;VALUE=DATE:20250817
DTEND;VALUE=DATE:20250818
DTSTAMP:20260423T120147
CREATED:20250108T111933Z
LAST-MODIFIED:20250108T111933Z
UID:3694-1755388800-1755475199@princechapel.org
SUMMARY:College Student Outreach
DESCRIPTION:College Student Outreach
URL:https://princechapel.org/calendar/college-student-outreach/
END:VEVENT
BEGIN:VEVENT
DTSTART;VALUE=DATE:20250817
DTEND;VALUE=DATE:20250818
DTSTAMP:20260423T120147
CREATED:20241210T143137Z
LAST-MODIFIED:20241210T143137Z
UID:3613-1755388800-1755475199@princechapel.org
SUMMARY:Church Growth and Evangelism Commission: College student outreach
DESCRIPTION:Church Growth and Evangelism Commission: College student outreach \nWe’re looking for members interested in growing our church. Please see Evangelist Kim Howard.
URL:https://princechapel.org/calendar/church-growth-and-evangelism-commission-college-student-outreach/
END:VEVENT
BEGIN:VEVENT
DTSTART;TZID=UTC:20250814T183000
DTEND;TZID=UTC:20250814T193000
DTSTAMP:20260423T120147
CREATED:20250218T132829Z
LAST-MODIFIED:20250218T132829Z
UID:3865-1755196200-1755199800@princechapel.org
SUMMARY:Lay Organization Meeting
DESCRIPTION:Lay Organization Meeting \nClick “Zoom Link” or copy and paste link address into your browser window.\nZoom Link\n\nhttps://us02web.zoom.us/j/85287360777?pwd=MFdlZGFSQ2MxLzNiZlJFdHpEK2Z0UT09
URL:https://princechapel.org/calendar/lay-organization-meeting-10/
END:VEVENT
BEGIN:VEVENT
DTSTART;TZID=UTC:20250710T183000
DTEND;TZID=UTC:20250710T193000
DTSTAMP:20260423T120147
CREATED:20250218T132734Z
LAST-MODIFIED:20250218T132734Z
UID:3863-1752172200-1752175800@princechapel.org
SUMMARY:Lay Organization Meeting
DESCRIPTION:Lay Organization Meeting \nClick “Zoom Link” or copy and paste link address into your browser window.\nZoom Link\n\nhttps://us02web.zoom.us/j/85287360777?pwd=MFdlZGFSQ2MxLzNiZlJFdHpEK2Z0UT09
URL:https://princechapel.org/calendar/lay-organization-meeting-9/
END:VEVENT
BEGIN:VEVENT
DTSTART;VALUE=DATE:20250629
DTEND;VALUE=DATE:20250630
DTSTAMP:20260423T120147
CREATED:20250202T181439Z
LAST-MODIFIED:20250202T181439Z
UID:3763-1751155200-1751241599@princechapel.org
SUMMARY:WMS Fifth Sunday
DESCRIPTION:WMS Fifth Sunday
URL:https://princechapel.org/calendar/wms-fifth-sunday/
END:VEVENT
BEGIN:VEVENT
DTSTART;VALUE=DATE:20250625
DTEND;VALUE=DATE:20250629
DTSTAMP:20260423T120147
CREATED:20250311T122551Z
LAST-MODIFIED:20250311T122551Z
UID:3943-1750809600-1751155199@princechapel.org
SUMMARY:5th District Lay Convention\, Phoenix\, AZ
DESCRIPTION:5th District Lay Convention\, Phoenix\, AZ\, June 25-28
URL:https://princechapel.org/calendar/5th-district-lay-convention-phoenix-az/
END:VEVENT
BEGIN:VEVENT
DTSTART;VALUE=DATE:20250614
DTEND;VALUE=DATE:20250615
DTSTAMP:20260423T120147
CREATED:20250108T111854Z
LAST-MODIFIED:20250108T111854Z
UID:3692-1749859200-1749945599@princechapel.org
SUMMARY:Bowling Adventure
DESCRIPTION:Bowling Adventure
URL:https://princechapel.org/calendar/bowling-adventure/
END:VEVENT
BEGIN:VEVENT
DTSTART;TZID=UTC:20250612T183000
DTEND;TZID=UTC:20250612T193000
DTSTAMP:20260423T120147
CREATED:20250218T132533Z
LAST-MODIFIED:20250218T132533Z
UID:3861-1749753000-1749756600@princechapel.org
SUMMARY:Lay Organization Meeting
DESCRIPTION:Lay Organization Meeting \nClick “Zoom Link” or copy and paste link address into your browser window.\nZoom Link\n\nhttps://us02web.zoom.us/j/85287360777?pwd=MFdlZGFSQ2MxLzNiZlJFdHpEK2Z0UT09
URL:https://princechapel.org/calendar/lay-organization-meeting-8/
END:VEVENT
BEGIN:VEVENT
DTSTART;VALUE=DATE:20250609
DTEND;VALUE=DATE:20250610
DTSTAMP:20260423T120147
CREATED:20250108T111819Z
LAST-MODIFIED:20250202T180730Z
UID:3690-1749427200-1749513599@princechapel.org
SUMMARY:First Responders’ Appreciation Day
DESCRIPTION:First Responders’ Appreciation Day
URL:https://princechapel.org/calendar/first-responders-appreciation-day/
END:VEVENT
BEGIN:VEVENT
DTSTART;VALUE=DATE:20250608
DTEND;VALUE=DATE:20250609
DTSTAMP:20260423T120147
CREATED:20241210T142715Z
LAST-MODIFIED:20241210T142715Z
UID:3610-1749340800-1749427199@princechapel.org
SUMMARY:Church Growth and Evangelism Commission: Firefighter Appreciation Day
DESCRIPTION:Church Growth and Evangelism Commission: Firefighter Appreciation Day \nWe’re looking for members interested in growing our church. Please see Evangelist Kim Howard.
URL:https://princechapel.org/calendar/church-growth-and-evangelism-commission-firefighter-appreciation-day/
END:VEVENT
BEGIN:VEVENT
DTSTART;VALUE=DATE:20250524
DTEND;VALUE=DATE:20250525
DTSTAMP:20260423T120147
CREATED:20250202T180534Z
LAST-MODIFIED:20250202T180534Z
UID:3756-1748044800-1748131199@princechapel.org
SUMMARY:WMS and City of Tucson Homeless outreach\, and   Resource Fair
DESCRIPTION:WMS and City of Tucson Homeless outreach\, and  \nResource Fair
URL:https://princechapel.org/calendar/wms-and-city-of-tucson-homeless-outreach-and-resource-fair/
END:VEVENT
BEGIN:VEVENT
DTSTART;VALUE=DATE:20250517
DTEND;VALUE=DATE:20250518
DTSTAMP:20260423T120147
CREATED:20250202T180437Z
LAST-MODIFIED:20250202T180437Z
UID:3754-1747440000-1747526399@princechapel.org
SUMMARY:Prince Chapel Spring Picnic
DESCRIPTION:Prince Chapel Spring Picnic
URL:https://princechapel.org/calendar/prince-chapel-spring-picnic/
END:VEVENT
BEGIN:VEVENT
DTSTART;TZID=UTC:20250508T183000
DTEND;TZID=UTC:20250508T193000
DTSTAMP:20260423T120147
CREATED:20250218T132438Z
LAST-MODIFIED:20250218T132438Z
UID:3859-1746729000-1746732600@princechapel.org
SUMMARY:Lay Organization Meeting
DESCRIPTION:Lay Organization Meeting \nClick “Zoom Link” or copy and paste link address into your browser window.\nZoom Link\n\nhttps://us02web.zoom.us/j/85287360777?pwd=MFdlZGFSQ2MxLzNiZlJFdHpEK2Z0UT09
URL:https://princechapel.org/calendar/lay-organization-meeting-7/
END:VEVENT
BEGIN:VEVENT
DTSTART;VALUE=DATE:20250427
DTEND;VALUE=DATE:20250428
DTSTAMP:20260423T120147
CREATED:20250413T063707Z
LAST-MODIFIED:20250413T063707Z
UID:3978-1745712000-1745798399@princechapel.org
SUMMARY:Lay Organization ANNUAL DAY
DESCRIPTION:Prince Chapel AME Church: Lay Organization ANNUAL DAY • Sunday\, April 27th\, 2025 @ 10am
URL:https://princechapel.org/calendar/lay-organization-annual-day/
END:VEVENT
BEGIN:VEVENT
DTSTART;VALUE=DATE:20250427
DTEND;VALUE=DATE:20250428
DTSTAMP:20260423T120147
CREATED:20250311T122324Z
LAST-MODIFIED:20250311T122324Z
UID:3941-1745712000-1745798399@princechapel.org
SUMMARY:Prince Chapel Lay Annual Day Sunday
DESCRIPTION:Prince Chapel Lay Annual Day Sunday April\, 27\, 2025 at 10 am.
URL:https://princechapel.org/calendar/prince-chapel-lay-annual-day-sunday/
END:VEVENT
BEGIN:VEVENT
DTSTART;VALUE=DATE:20250424
DTEND;VALUE=DATE:20250427
DTSTAMP:20260423T120147
CREATED:20250311T122153Z
LAST-MODIFIED:20250311T122153Z
UID:3939-1745452800-1745711999@princechapel.org
SUMMARY:Desert Mountain Conference Lay Convention
DESCRIPTION:Desert Mountain Conference Lay Convention\, Virtual\, April 24-26
URL:https://princechapel.org/calendar/desert-mountain-conference-lay-convention/
END:VEVENT
BEGIN:VEVENT
DTSTART;VALUE=DATE:20250420
DTEND;VALUE=DATE:20250421
DTSTAMP:20260423T120147
CREATED:20241210T141911Z
LAST-MODIFIED:20250321T134219Z
UID:3608-1745107200-1745193599@princechapel.org
SUMMARY:Easter
DESCRIPTION:Church Growth and Evangelism Commission: Easter\nEaster Sunday Service\, 10:00am\, April 20\, 2025 \nWe’re looking for members interested in growing our church. Please see Evangelist Kim Howard.
URL:https://princechapel.org/calendar/church-growth-and-evangelism-commission-easter/
END:VEVENT
BEGIN:VEVENT
DTSTART;VALUE=DATE:20250419
DTEND;VALUE=DATE:20250420
DTSTAMP:20260423T120147
CREATED:20241210T141703Z
LAST-MODIFIED:20250312T002121Z
UID:3606-1745020800-1745107199@princechapel.org
SUMMARY:Easter Egg Hunt
DESCRIPTION:Church Growth and Evangelism Commission: Easter Egg Hunt \nWe’re looking for members interested in growing our church. Please see Evangelist Kim Howard.
URL:https://princechapel.org/calendar/church-growth-and-evangelism-commission-easter-egg-hunt/
END:VEVENT
END:VCALENDAR