BEGIN:VCALENDAR
VERSION:2.0
PRODID:-//Prince Chapel AME Church - ECPv6.15.10//NONSGML v1.0//EN
CALSCALE:GREGORIAN
METHOD:PUBLISH
X-ORIGINAL-URL:https://princechapel.org
X-WR-CALDESC:Events for Prince Chapel AME Church
REFRESH-INTERVAL;VALUE=DURATION:PT1H
X-Robots-Tag:noindex
X-PUBLISHED-TTL:PT1H
BEGIN:VTIMEZONE
TZID:UTC
BEGIN:STANDARD
TZOFFSETFROM:+0000
TZOFFSETTO:+0000
TZNAME:UTC
DTSTART:20240101T000000
END:STANDARD
END:VTIMEZONE
BEGIN:VEVENT
DTSTART;VALUE=DATE:20250625
DTEND;VALUE=DATE:20250629
DTSTAMP:20260423T225944
CREATED:20250311T122551Z
LAST-MODIFIED:20250311T122551Z
UID:3943-1750809600-1751155199@princechapel.org
SUMMARY:5th District Lay Convention\, Phoenix\, AZ
DESCRIPTION:5th District Lay Convention\, Phoenix\, AZ\, June 25-28
URL:https://princechapel.org/calendar/5th-district-lay-convention-phoenix-az/
END:VEVENT
END:VCALENDAR