BEGIN:VCALENDAR
VERSION:2.0
PRODID:-//Prince Chapel AME Church - ECPv6.15.10//NONSGML v1.0//EN
CALSCALE:GREGORIAN
METHOD:PUBLISH
X-WR-CALNAME:Prince Chapel AME Church
X-ORIGINAL-URL:https://princechapel.org
X-WR-CALDESC:Events for Prince Chapel AME Church
REFRESH-INTERVAL;VALUE=DURATION:PT1H
X-Robots-Tag:noindex
X-PUBLISHED-TTL:PT1H
BEGIN:VTIMEZONE
TZID:UTC
BEGIN:STANDARD
TZOFFSETFROM:+0000
TZOFFSETTO:+0000
TZNAME:UTC
DTSTART:20240101T000000
END:STANDARD
END:VTIMEZONE
BEGIN:VEVENT
DTSTART;VALUE=DATE:20250427
DTEND;VALUE=DATE:20250428
DTSTAMP:20260424T013703
CREATED:20250311T122324Z
LAST-MODIFIED:20250311T122324Z
UID:3941-1745712000-1745798399@princechapel.org
SUMMARY:Prince Chapel Lay Annual Day Sunday
DESCRIPTION:Prince Chapel Lay Annual Day Sunday April\, 27\, 2025 at 10 am.
URL:https://princechapel.org/calendar/prince-chapel-lay-annual-day-sunday/
END:VEVENT
BEGIN:VEVENT
DTSTART;VALUE=DATE:20250427
DTEND;VALUE=DATE:20250428
DTSTAMP:20260424T013703
CREATED:20250413T063707Z
LAST-MODIFIED:20250413T063707Z
UID:3978-1745712000-1745798399@princechapel.org
SUMMARY:Lay Organization ANNUAL DAY
DESCRIPTION:Prince Chapel AME Church: Lay Organization ANNUAL DAY • Sunday\, April 27th\, 2025 @ 10am
URL:https://princechapel.org/calendar/lay-organization-annual-day/
END:VEVENT
END:VCALENDAR