BEGIN:VCALENDAR
VERSION:2.0
PRODID:-//Prince Chapel AME Church - ECPv6.15.10//NONSGML v1.0//EN
CALSCALE:GREGORIAN
METHOD:PUBLISH
X-WR-CALNAME:Prince Chapel AME Church
X-ORIGINAL-URL:https://princechapel.org
X-WR-CALDESC:Events for Prince Chapel AME Church
REFRESH-INTERVAL;VALUE=DURATION:PT1H
X-Robots-Tag:noindex
X-PUBLISHED-TTL:PT1H
BEGIN:VTIMEZONE
TZID:UTC
BEGIN:STANDARD
TZOFFSETFROM:+0000
TZOFFSETTO:+0000
TZNAME:UTC
DTSTART:20230101T000000
END:STANDARD
END:VTIMEZONE
BEGIN:VEVENT
DTSTART;VALUE=DATE:20240623
DTEND;VALUE=DATE:20240624
DTSTAMP:20260424T174210
CREATED:20240227T143300Z
LAST-MODIFIED:20240227T143300Z
UID:3233-1719100800-1719187199@princechapel.org
SUMMARY:Stewards Day
DESCRIPTION:Stewards Day\nPE Curry Hodge\, Speaker
URL:https://princechapel.org/calendar/stewards-day/
END:VEVENT
BEGIN:VEVENT
DTSTART;TZID=UTC:20240623T100000
DTEND;TZID=UTC:20240623T113000
DTSTAMP:20260424T174210
CREATED:20240521T145304Z
LAST-MODIFIED:20240521T145649Z
UID:3314-1719136800-1719142200@princechapel.org
SUMMARY:Prince Chapel AME: ANNUAL STEWARD’S DAY
DESCRIPTION:Prince Chapel AME: ANNUAL STEWARD’S DAY\n“Growing Together — Building Our Faith”\nGuest Preacher: Presiding Elder Curry-Hodge\, Rocky Mountain District
URL:https://princechapel.org/calendar/prince-chapel-ame-annual-stewards-day/
END:VEVENT
END:VCALENDAR