BEGIN:VCALENDAR
VERSION:2.0
PRODID:-//Prince Chapel AME Church - ECPv6.15.10//NONSGML v1.0//EN
CALSCALE:GREGORIAN
METHOD:PUBLISH
X-ORIGINAL-URL:https://princechapel.org
X-WR-CALDESC:Events for Prince Chapel AME Church
REFRESH-INTERVAL;VALUE=DURATION:PT1H
X-Robots-Tag:noindex
X-PUBLISHED-TTL:PT1H
BEGIN:VTIMEZONE
TZID:UTC
BEGIN:STANDARD
TZOFFSETFROM:+0000
TZOFFSETTO:+0000
TZNAME:UTC
DTSTART:20230101T000000
END:STANDARD
END:VTIMEZONE
BEGIN:VEVENT
DTSTART;TZID=UTC:20240613T183000
DTEND;TZID=UTC:20240613T193000
DTSTAMP:20260424T174245
CREATED:20240226T145936Z
LAST-MODIFIED:20240226T145936Z
UID:3185-1718303400-1718307000@princechapel.org
SUMMARY:Lay Organization Meeting
DESCRIPTION:Lay Organization 2nd Thursday of each month @6:30 pm via Zoo
URL:https://princechapel.org/calendar/lay-organization-meeting-4/
END:VEVENT
END:VCALENDAR