BEGIN:VCALENDAR
VERSION:2.0
PRODID:-//Prince Chapel AME Church - ECPv6.15.10//NONSGML v1.0//EN
CALSCALE:GREGORIAN
METHOD:PUBLISH
X-ORIGINAL-URL:https://princechapel.org
X-WR-CALDESC:Events for Prince Chapel AME Church
REFRESH-INTERVAL;VALUE=DURATION:PT1H
X-Robots-Tag:noindex
X-PUBLISHED-TTL:PT1H
BEGIN:VTIMEZONE
TZID:UTC
BEGIN:STANDARD
TZOFFSETFROM:+0000
TZOFFSETTO:+0000
TZNAME:UTC
DTSTART:20230101T000000
END:STANDARD
END:VTIMEZONE
BEGIN:VEVENT
DTSTART;VALUE=DATE:20240424
DTEND;VALUE=DATE:20240428
DTSTAMP:20260424T204217
CREATED:20240227T142121Z
LAST-MODIFIED:20240227T142302Z
UID:3227-1713916800-1714262399@princechapel.org
SUMMARY:Desert Mountain Lay Organization Annual Lay Convention
DESCRIPTION:Desert Mountain Lay Organization Annual Lay Convention\nHost: Prince Chapel
URL:https://princechapel.org/calendar/desert-mountain-lay-organization-annual-lay-convention/
END:VEVENT
END:VCALENDAR