BEGIN:VCALENDAR
VERSION:2.0
PRODID:-//Prince Chapel AME Church - ECPv6.15.10//NONSGML v1.0//EN
CALSCALE:GREGORIAN
METHOD:PUBLISH
X-WR-CALNAME:Prince Chapel AME Church
X-ORIGINAL-URL:https://princechapel.org
X-WR-CALDESC:Events for Prince Chapel AME Church
REFRESH-INTERVAL;VALUE=DURATION:PT1H
X-Robots-Tag:noindex
X-PUBLISHED-TTL:PT1H
BEGIN:VTIMEZONE
TZID:UTC
BEGIN:STANDARD
TZOFFSETFROM:+0000
TZOFFSETTO:+0000
TZNAME:UTC
DTSTART:20230101T000000
END:STANDARD
END:VTIMEZONE
BEGIN:VEVENT
DTSTART;VALUE=DATE:20240411
DTEND;VALUE=DATE:20240414
DTSTAMP:20260424T204145
CREATED:20240227T141654Z
LAST-MODIFIED:20240227T142354Z
UID:3224-1712793600-1713052799@princechapel.org
SUMMARY:AZ/NM District Conference
DESCRIPTION:AZ / NM District Conference\, Phoenix\, AZ
URL:https://princechapel.org/calendar/az-nm-district-conference-2/
END:VEVENT
END:VCALENDAR