BEGIN:VCALENDAR
VERSION:2.0
PRODID:-//Prince Chapel AME Church - ECPv6.15.10//NONSGML v1.0//EN
CALSCALE:GREGORIAN
METHOD:PUBLISH
X-WR-CALNAME:Prince Chapel AME Church
X-ORIGINAL-URL:https://princechapel.org
X-WR-CALDESC:Events for Prince Chapel AME Church
REFRESH-INTERVAL;VALUE=DURATION:PT1H
X-Robots-Tag:noindex
X-PUBLISHED-TTL:PT1H
BEGIN:VTIMEZONE
TZID:UTC
BEGIN:STANDARD
TZOFFSETFROM:+0000
TZOFFSETTO:+0000
TZNAME:UTC
DTSTART:20230101T000000
END:STANDARD
END:VTIMEZONE
BEGIN:VEVENT
DTSTART;TZID=UTC:20240407T100000
DTEND;TZID=UTC:20240407T120000
DTSTAMP:20260424T204059
CREATED:20240227T141408Z
LAST-MODIFIED:20240227T141408Z
UID:3222-1712484000-1712491200@princechapel.org
SUMMARY:Rev. Dr. James F. Miller — Guest Speaker
DESCRIPTION:Weekend of Spiritual Enrichment\nRev. Dr. James F. Miller\n10 am\n@ Prince Chapel
URL:https://princechapel.org/calendar/rev-dr-james-f-miller-guest-speaker/
END:VEVENT
END:VCALENDAR